Back to Multiple platform build/check report for BioC 3.13
A[B]CDEFGHIJKLMNOPQRSTUVWXYZ

This page was generated on 2021-09-13 15:06:19 -0400 (Mon, 13 Sep 2021).

BUILD BIN results for bnbc on tokay2

To the developers/maintainers of the bnbc package:
- Please allow up to 24 hours (and sometimes 48 hours) for your latest push to git@git.bioconductor.org:packages/bnbc.git to
reflect on this report. See How and When does the builder pull? When will my changes propagate? here for more information.
- Make sure to use the following settings in order to reproduce any error or warning you see on this page.

raw results

Package 203/2041HostnameOS / ArchINSTALLBUILDCHECKBUILD BIN
bnbc 1.14.0  (landing page)
Kipper Fletez-Brant
Snapshot Date: 2021-09-12 04:50:10 -0400 (Sun, 12 Sep 2021)
git_url: https://git.bioconductor.org/packages/bnbc
git_branch: RELEASE_3_13
git_last_commit: 210c4d2
git_last_commit_date: 2021-05-19 12:31:07 -0400 (Wed, 19 May 2021)
nebbiolo1Linux (Ubuntu 20.04.2 LTS) / x86_64  OK    OK    OK  UNNEEDED, same version is already published
tokay2Windows Server 2012 R2 Standard / x64  OK    OK    OK    OK  UNNEEDED, same version is already published
machv2macOS 10.14.6 Mojave / x86_64  OK    OK    OK    OK  UNNEEDED, same version is already published

Summary

Package: bnbc
Version: 1.14.0
Command: rm -rf bnbc.buildbin-libdir && mkdir bnbc.buildbin-libdir && C:\Users\biocbuild\bbs-3.13-bioc\R\bin\R.exe CMD INSTALL --merge-multiarch --build --library=bnbc.buildbin-libdir bnbc_1.14.0.tar.gz
StartedAt: 2021-09-13 07:48:29 -0400 (Mon, 13 Sep 2021)
EndedAt: 2021-09-13 07:49:44 -0400 (Mon, 13 Sep 2021)
EllapsedTime: 74.9 seconds
RetCode: 0
Status:   OK  
PackageFile: bnbc_1.14.0.zip
PackageFileSize: 3.76 MiB

Command output

##############################################################################
##############################################################################
###
### Running command:
###
###   rm -rf bnbc.buildbin-libdir && mkdir bnbc.buildbin-libdir && C:\Users\biocbuild\bbs-3.13-bioc\R\bin\R.exe CMD INSTALL --merge-multiarch --build --library=bnbc.buildbin-libdir bnbc_1.14.0.tar.gz
###
##############################################################################
##############################################################################



install for i386

* installing *source* package 'bnbc' ...
** using staged installation
** libs
"C:/rtools40/mingw32/bin/"g++ -std=gnu++11  -I"C:/Users/BIOCBU~1/BBS-3~1.13-/R/include" -DNDEBUG  -I'C:/Users/biocbuild/bbs-3.13-bioc/R/library/Rcpp/include'   -I"c:/extsoft/include"     -O2 -Wall  -mfpmath=sse -msse2 -mstackrealign  -c RcppExports.cpp -o RcppExports.o
"C:/rtools40/mingw32/bin/"g++ -std=gnu++11  -I"C:/Users/BIOCBU~1/BBS-3~1.13-/R/include" -DNDEBUG  -I'C:/Users/biocbuild/bbs-3.13-bioc/R/library/Rcpp/include'   -I"c:/extsoft/include"     -O2 -Wall  -mfpmath=sse -msse2 -mstackrealign  -c update_bands.cpp -o update_bands.o
C:/rtools40/mingw32/bin/g++ -std=gnu++11 -shared -s -static-libgcc -o bnbc.dll tmp.def RcppExports.o update_bands.o -Lc:/extsoft/lib/i386 -Lc:/extsoft/lib -LC:/Users/BIOCBU~1/BBS-3~1.13-/R/bin/i386 -lR
installing to C:/Users/biocbuild/bbs-3.13-bioc/meat/bnbc.buildbin-libdir/00LOCK-bnbc/00new/bnbc/libs/i386
** R
** data
** inst
** byte-compile and prepare package for lazy loading
** help
*** installing help indices
  converting help for package 'bnbc'
    finding HTML links ... done
    ContactGroup-class                      html  
    apply_functions                         html  
    band                                    html  
    bnbc-package                            html  
    bnbc                                    html  
    cgEx                                    html  
    cooler_methods                          html  
    getBandIdx                              html  
    getBandMatrix                           html  
    groupZeros                              html  
    smoothing                               html  
** building package indices
** installing vignettes
** testing if installed package can be loaded from temporary location
** testing if installed package can be loaded from final location
** testing if installed package keeps a record of temporary installation path

install for x64

* installing *source* package 'bnbc' ...
** libs
"C:/rtools40/mingw64/bin/"g++ -std=gnu++11  -I"C:/Users/BIOCBU~1/BBS-3~1.13-/R/include" -DNDEBUG  -I'C:/Users/biocbuild/bbs-3.13-bioc/R/library/Rcpp/include'   -I"C:/extsoft/include"     -O2 -Wall  -mfpmath=sse -msse2 -mstackrealign  -c RcppExports.cpp -o RcppExports.o
"C:/rtools40/mingw64/bin/"g++ -std=gnu++11  -I"C:/Users/BIOCBU~1/BBS-3~1.13-/R/include" -DNDEBUG  -I'C:/Users/biocbuild/bbs-3.13-bioc/R/library/Rcpp/include'   -I"C:/extsoft/include"     -O2 -Wall  -mfpmath=sse -msse2 -mstackrealign  -c update_bands.cpp -o update_bands.o
C:/rtools40/mingw64/bin/g++ -std=gnu++11 -shared -s -static-libgcc -o bnbc.dll tmp.def RcppExports.o update_bands.o -LC:/extsoft/lib/x64 -LC:/extsoft/lib -LC:/Users/BIOCBU~1/BBS-3~1.13-/R/bin/x64 -lR
installing to C:/Users/biocbuild/bbs-3.13-bioc/meat/bnbc.buildbin-libdir/bnbc/libs/x64
** testing if installed package can be loaded
* MD5 sums
packaged installation of 'bnbc' as bnbc_1.14.0.zip
* DONE (bnbc)