Back to Multiple platform build/check report for BioC 3.13
A[B]CDEFGHIJKLMNOPQRSTUVWXYZ

This page was generated on 2021-09-24 15:05:40 -0400 (Fri, 24 Sep 2021).

BUILD results for bluster on nebbiolo1

To the developers/maintainers of the bluster package:
- Please allow up to 24 hours (and sometimes 48 hours) for your latest push to git@git.bioconductor.org:packages/bluster.git to
reflect on this report. See How and When does the builder pull? When will my changes propagate? here for more information.
- Make sure to use the following settings in order to reproduce any error or warning you see on this page.

raw results

Package 202/2041HostnameOS / ArchINSTALLBUILDCHECKBUILD BIN
bluster 1.2.1  (landing page)
Aaron Lun
Snapshot Date: 2021-09-23 04:50:12 -0400 (Thu, 23 Sep 2021)
git_url: https://git.bioconductor.org/packages/bluster
git_branch: RELEASE_3_13
git_last_commit: 5657043
git_last_commit_date: 2021-05-26 02:25:40 -0400 (Wed, 26 May 2021)
nebbiolo1Linux (Ubuntu 20.04.2 LTS) / x86_64  OK    OK    OK  UNNEEDED, same version is already published
tokay2Windows Server 2012 R2 Standard / x64  OK    OK    OK    OK  UNNEEDED, same version is already published
machv2macOS 10.14.6 Mojave / x86_64  OK    OK    OK    OK  UNNEEDED, same version is already published

Summary

Package: bluster
Version: 1.2.1
Command: /home/biocbuild/bbs-3.13-bioc/R/bin/R CMD build --keep-empty-dirs --no-resave-data bluster
StartedAt: 2021-09-23 06:48:30 -0400 (Thu, 23 Sep 2021)
EndedAt: 2021-09-23 06:50:53 -0400 (Thu, 23 Sep 2021)
EllapsedTime: 143.8 seconds
RetCode: 0
Status:   OK  
PackageFile: bluster_1.2.1.tar.gz
PackageFileSize: 2.859 MiB

Command output

##############################################################################
##############################################################################
###
### Running command:
###
###   /home/biocbuild/bbs-3.13-bioc/R/bin/R CMD build --keep-empty-dirs --no-resave-data bluster
###
##############################################################################
##############################################################################


* checking for file ‘bluster/DESCRIPTION’ ... OK
* preparing ‘bluster’:
* checking DESCRIPTION meta-information ... OK
* cleaning src
* installing the package to build vignettes
* creating vignettes ... OK
* cleaning src
* checking for LF line-endings in source and make files and shell scripts
* checking for empty or unneeded directories
* building ‘bluster_1.2.1.tar.gz’