Back to Multiple platform build/check report for BioC 3.13
A[B]CDEFGHIJKLMNOPQRSTUVWXYZ

This page was generated on 2021-09-20 15:04:20 -0400 (Mon, 20 Sep 2021).

All results for package bluster

To the developers/maintainers of the bluster package:
- Please allow up to 24 hours (and sometimes 48 hours) for your latest push to git@git.bioconductor.org:packages/bluster.git to
reflect on this report. See How and When does the builder pull? When will my changes propagate? here for more information.
- Make sure to use the following settings in order to reproduce any error or warning you see on this page.

raw results

Package 202/2041HostnameOS / ArchINSTALLBUILDCHECKBUILD BIN
bluster 1.2.1  (landing page)
Aaron Lun
Snapshot Date: 2021-09-19 04:50:10 -0400 (Sun, 19 Sep 2021)
git_url: https://git.bioconductor.org/packages/bluster
git_branch: RELEASE_3_13
git_last_commit: 5657043
git_last_commit_date: 2021-05-26 02:25:40 -0400 (Wed, 26 May 2021)
nebbiolo1Linux (Ubuntu 20.04.2 LTS) / x86_64  OK    OK    OK  UNNEEDED, same version is already published
tokay2Windows Server 2012 R2 Standard / x64  OK    OK    OK    OK  UNNEEDED, same version is already published
machv2macOS 10.14.6 Mojave / x86_64  OK    OK    OK    OK  UNNEEDED, same version is already published

Results for Bioconductor software packages that depend directly on package bluster

QUICK STATSOS / ArchINSTALLBUILDCHECKBUILD BIN
nebbiolo1Linux (Ubuntu 20.04.2 LTS) / x86_64
002
002
0020
tokay2Windows Server 2012 R2 Standard / x64
002
002
0020
002
machv2macOS 10.14.6 Mojave / x86_64
002
002
0020
002
Package 1/2HostnameOS / ArchINSTALLBUILDCHECKBUILD BIN
scDblFinder 1.6.0  (landing page)
Pierre-Luc Germain
git_last_commit: e5c1a83
git_last_commit_date: 2021-05-19 12:47:35 -0400
nebbiolo1Linux (Ubuntu 20.04.2 LTS) / x86_64  OK    OK    WARNINGS  UNNEEDED, same version is already published
tokay2Windows Server 2012 R2 Standard / x64  OK    OK    WARNINGS    OK  UNNEEDED, same version is already published
machv2macOS 10.14.6 Mojave / x86_64  OK    OK    WARNINGS    OK  UNNEEDED, same version is already published
Package 2/2HostnameOS / ArchINSTALLBUILDCHECKBUILD BIN
scran 1.20.1  (landing page)
Aaron Lun
git_last_commit: 5fcaf5b
git_last_commit_date: 2021-05-24 12:45:47 -0400
nebbiolo1Linux (Ubuntu 20.04.2 LTS) / x86_64  OK    OK    WARNINGS  UNNEEDED, same version is already published
tokay2Windows Server 2012 R2 Standard / x64  OK    OK    WARNINGS    OK  UNNEEDED, same version is already published
machv2macOS 10.14.6 Mojave / x86_64  OK    OK    WARNINGS    OK  UNNEEDED, same version is already published