Index of /checkResults/release/bioc-LATEST/biscuiteer/raw-results/tokay2

[ICO]NameLast modifiedSizeDescription

[DIR]Parent Directory  -  
[TXT]buildbin-out.txt16-Oct-2021 04:05 4.3K 
[   ]buildbin-summary.dcf16-Oct-2021 04:05 555  
[TXT]buildsrc-out.txt16-Oct-2021 04:05 919  
[   ]buildsrc-summary.dcf16-Oct-2021 04:05 469  
[TXT]checksrc-out.txt16-Oct-2021 04:05 5.2K 
[   ]checksrc-summary.dcf16-Oct-2021 04:05 479  
[TXT]install-out.txt16-Oct-2021 04:05 5.2K 
[   ]install-summary.dcf16-Oct-2021 04:05 662