Index of /checkResults/release/bioc-LATEST/biscuiteer/raw-results/nebbiolo1

[ICO]NameLast modifiedSizeDescription

[DIR]Parent Directory  -  
[TXT]buildsrc-out.txt16-Oct-2021 04:05 880  
[   ]buildsrc-summary.dcf16-Oct-2021 04:05 425  
[TXT]checksrc-out.txt16-Oct-2021 04:05 4.2K 
[   ]checksrc-summary.dcf16-Oct-2021 04:05 440  
[TXT]install-out.txt16-Oct-2021 04:05 1.7K 
[   ]install-summary.dcf16-Oct-2021 04:05 265