Back to Multiple platform build/check report for BioC 3.13
A[B]CDEFGHIJKLMNOPQRSTUVWXYZ

This page was generated on 2021-09-24 15:06:03 -0400 (Fri, 24 Sep 2021).

BUILD results for biovizBase on tokay2

To the developers/maintainers of the biovizBase package:
- Please allow up to 24 hours (and sometimes 48 hours) for your latest push to git@git.bioconductor.org:packages/biovizBase.git to
reflect on this report. See How and When does the builder pull? When will my changes propagate? here for more information.
- Make sure to use the following settings in order to reproduce any error or warning you see on this page.

raw results

Package 193/2041HostnameOS / ArchINSTALLBUILDCHECKBUILD BIN
biovizBase 1.40.0  (landing page)
Michael Lawrence
Snapshot Date: 2021-09-23 04:50:12 -0400 (Thu, 23 Sep 2021)
git_url: https://git.bioconductor.org/packages/biovizBase
git_branch: RELEASE_3_13
git_last_commit: e741735
git_last_commit_date: 2021-05-19 11:50:05 -0400 (Wed, 19 May 2021)
nebbiolo1Linux (Ubuntu 20.04.2 LTS) / x86_64  OK    OK    WARNINGS  UNNEEDED, same version is already published
tokay2Windows Server 2012 R2 Standard / x64  OK    OK    WARNINGS    OK  UNNEEDED, same version is already published
machv2macOS 10.14.6 Mojave / x86_64  OK    OK    WARNINGS    OK  UNNEEDED, same version is already published

Summary

Package: biovizBase
Version: 1.40.0
Command: chmod a+r biovizBase -R && C:\Users\biocbuild\bbs-3.13-bioc\R\bin\R.exe CMD build --keep-empty-dirs --no-resave-data biovizBase
StartedAt: 2021-09-23 11:43:50 -0400 (Thu, 23 Sep 2021)
EndedAt: 2021-09-23 11:45:20 -0400 (Thu, 23 Sep 2021)
EllapsedTime: 90.3 seconds
RetCode: 0
Status:   OK  
PackageFile: biovizBase_1.40.0.tar.gz
PackageFileSize: 2.321 MiB

Command output

##############################################################################
##############################################################################
###
### Running command:
###
###   chmod a+r biovizBase -R && C:\Users\biocbuild\bbs-3.13-bioc\R\bin\R.exe CMD build --keep-empty-dirs --no-resave-data biovizBase
###
##############################################################################
##############################################################################


* checking for file 'biovizBase/DESCRIPTION' ... OK
* preparing 'biovizBase':
* checking DESCRIPTION meta-information ... OK
* cleaning src
* installing the package to build vignettes
* creating vignettes ... OK
* cleaning src
* checking for LF line-endings in source and make files and shell scripts
* checking for empty or unneeded directories
* building 'biovizBase_1.40.0.tar.gz'