Back to Multiple platform build/check report for BioC 3.13
A[B]CDEFGHIJKLMNOPQRSTUVWXYZ

This page was generated on 2021-09-22 15:05:38 -0400 (Wed, 22 Sep 2021).

INSTALL results for biovizBase on machv2

To the developers/maintainers of the biovizBase package:
- Please allow up to 24 hours (and sometimes 48 hours) for your latest push to git@git.bioconductor.org:packages/biovizBase.git to
reflect on this report. See How and When does the builder pull? When will my changes propagate? here for more information.
- Make sure to use the following settings in order to reproduce any error or warning you see on this page.

raw results

Package 193/2041HostnameOS / ArchINSTALLBUILDCHECKBUILD BIN
biovizBase 1.40.0  (landing page)
Michael Lawrence
Snapshot Date: 2021-09-21 04:50:12 -0400 (Tue, 21 Sep 2021)
git_url: https://git.bioconductor.org/packages/biovizBase
git_branch: RELEASE_3_13
git_last_commit: e741735
git_last_commit_date: 2021-05-19 11:50:05 -0400 (Wed, 19 May 2021)
nebbiolo1Linux (Ubuntu 20.04.2 LTS) / x86_64  OK    OK    WARNINGS  UNNEEDED, same version is already published
tokay2Windows Server 2012 R2 Standard / x64  OK    OK    WARNINGS    OK  UNNEEDED, same version is already published
machv2macOS 10.14.6 Mojave / x86_64  OK    OK    WARNINGS    OK  UNNEEDED, same version is already published

Summary

Package: biovizBase
Version: 1.40.0
Command: /Library/Frameworks/R.framework/Versions/Current/Resources/bin/R CMD INSTALL biovizBase
StartedAt: 2021-09-21 10:11:20 -0400 (Tue, 21 Sep 2021)
EndedAt: 2021-09-21 10:12:18 -0400 (Tue, 21 Sep 2021)
EllapsedTime: 57.5 seconds
RetCode: 0
Status:   OK  

Command output

##############################################################################
##############################################################################
###
### Running command:
###
###   /Library/Frameworks/R.framework/Versions/Current/Resources/bin/R CMD INSTALL biovizBase
###
##############################################################################
##############################################################################


* installing to library ‘/Library/Frameworks/R.framework/Versions/4.1/Resources/library’
* installing *source* package ‘biovizBase’ ...
** using staged installation
** libs
clang -mmacosx-version-min=10.13 -I"/Library/Frameworks/R.framework/Resources/include" -DNDEBUG   -I/usr/local/include   -fPIC  -Wall -g -O2  -c R_init_biovizBase.c -o R_init_biovizBase.o
clang -mmacosx-version-min=10.13 -I"/Library/Frameworks/R.framework/Resources/include" -DNDEBUG   -I/usr/local/include   -fPIC  -Wall -g -O2  -c bin_offsets.c -o bin_offsets.o
bin_offsets.c:57:15: warning: passing 'Rbyte *' (aka 'unsigned char *') to parameter of type 'const char *' converts between pointers to integer types with different sign [-Wpointer-sign]
  if (strncmp(b, "BAI\1", 4))
              ^
/Library/Developer/CommandLineTools/SDKs/MacOSX10.14.sdk/usr/include/string.h:84:26: note: passing argument to parameter '__s1' here
int      strncmp(const char *__s1, const char *__s2, size_t __n);
                             ^
1 warning generated.
clang -mmacosx-version-min=10.13 -dynamiclib -Wl,-headerpad_max_install_names -undefined dynamic_lookup -single_module -multiply_defined suppress -L/Library/Frameworks/R.framework/Resources/lib -L/usr/local/lib -o biovizBase.so R_init_biovizBase.o bin_offsets.o -F/Library/Frameworks/R.framework/.. -framework R -Wl,-framework -Wl,CoreFoundation
installing to /Library/Frameworks/R.framework/Versions/4.1/Resources/library/00LOCK-biovizBase/00new/biovizBase/libs
** R
** data
*** moving datasets to lazyload DB
** inst
** byte-compile and prepare package for lazy loading
** help
*** installing help indices
** building package indices
** installing vignettes
** testing if installed package can be loaded from temporary location
** checking absolute paths in shared objects and dynamic libraries
** testing if installed package can be loaded from final location
** testing if installed package keeps a record of temporary installation path
* DONE (biovizBase)