Back to Multiple platform build/check report for BioC 3.13
A[B]CDEFGHIJKLMNOPQRSTUVWXYZ

This page was generated on 2021-08-02 15:05:05 -0400 (Mon, 02 Aug 2021).

CHECK results for biocViews on tokay2

To the developers/maintainers of the biocViews package:
- Please allow up to 24 hours (and sometimes 48 hours) for your latest push to git@git.bioconductor.org:packages/biocViews.git to
reflect on this report. See How and When does the builder pull? When will my changes propagate? here for more information.
- Make sure to use the following settings in order to reproduce any error or warning you see on this page.

raw results

Package 176/2041HostnameOS / ArchINSTALLBUILDCHECKBUILD BIN
biocViews 1.60.0  (landing page)
Bioconductor Package Maintainer
Snapshot Date: 2021-08-01 04:50:10 -0400 (Sun, 01 Aug 2021)
URL: https://git.bioconductor.org/packages/biocViews
Branch: RELEASE_3_13
Last Commit: b861d8d
Last Changed Date: 2021-05-19 11:36:22 -0400 (Wed, 19 May 2021)
nebbiolo1Linux (Ubuntu 20.04.2 LTS) / x86_64  OK    OK    OK  UNNEEDED, same version is already published
tokay2Windows Server 2012 R2 Standard / x64  OK    OK    OK    OK  UNNEEDED, same version is already published
machv2macOS 10.14.6 Mojave / x86_64  OK    OK    OK    OK  UNNEEDED, same version is already published

Summary

Package: biocViews
Version: 1.60.0
Command: C:\Users\biocbuild\bbs-3.13-bioc\R\bin\R.exe CMD check --force-multiarch --install=check:biocViews.install-out.txt --library=C:\Users\biocbuild\bbs-3.13-bioc\R\library --no-vignettes --timings biocViews_1.60.0.tar.gz
StartedAt: 2021-08-01 20:26:37 -0400 (Sun, 01 Aug 2021)
EndedAt: 2021-08-01 20:30:32 -0400 (Sun, 01 Aug 2021)
EllapsedTime: 235.3 seconds
RetCode: 0
Status:   OK  
CheckDir: biocViews.Rcheck
Warnings: 0

Command output

##############################################################################
##############################################################################
###
### Running command:
###
###   C:\Users\biocbuild\bbs-3.13-bioc\R\bin\R.exe CMD check --force-multiarch --install=check:biocViews.install-out.txt --library=C:\Users\biocbuild\bbs-3.13-bioc\R\library --no-vignettes --timings biocViews_1.60.0.tar.gz
###
##############################################################################
##############################################################################


* using log directory 'C:/Users/biocbuild/bbs-3.13-bioc/meat/biocViews.Rcheck'
* using R version 4.1.0 (2021-05-18)
* using platform: x86_64-w64-mingw32 (64-bit)
* using session charset: ISO8859-1
* using option '--no-vignettes'
* checking for file 'biocViews/DESCRIPTION' ... OK
* this is package 'biocViews' version '1.60.0'
* checking package namespace information ... OK
* checking package dependencies ... OK
* checking if this is a source package ... OK
* checking if there is a namespace ... OK
* checking for hidden files and directories ... OK
* checking for portable file names ... OK
* checking whether package 'biocViews' can be installed ... OK
* checking installed package size ... OK
* checking package directory ... OK
* checking 'build' directory ... OK
* checking DESCRIPTION meta-information ... OK
* checking top-level files ... OK
* checking for left-over files ... OK
* checking index information ... OK
* checking package subdirectories ... OK
* checking R files for non-ASCII characters ... OK
* checking R files for syntax errors ... OK
* loading checks for arch 'i386'
** checking whether the package can be loaded ... OK
** checking whether the package can be loaded with stated dependencies ... OK
** checking whether the package can be unloaded cleanly ... OK
** checking whether the namespace can be loaded with stated dependencies ... OK
** checking whether the namespace can be unloaded cleanly ... OK
* loading checks for arch 'x64'
** checking whether the package can be loaded ... OK
** checking whether the package can be loaded with stated dependencies ... OK
** checking whether the package can be unloaded cleanly ... OK
** checking whether the namespace can be loaded with stated dependencies ... OK
** checking whether the namespace can be unloaded cleanly ... OK
* checking dependencies in R code ... NOTE
':::' call which should be '::': 'tools:::vignetteInfo'
  See the note in ?`:::` about the use of this operator.
Unexported objects imported by ':::' calls:
  'tools:::.build_news_db_from_package_NEWS_Rd'
  'tools:::.build_news_db_from_package_NEWS_md'
  'tools:::.build_repository_package_db'
  'tools:::.get_standard_repository_db_fields'
  'tools:::.news_reader_default' 'tools:::.split_dependencies'
  See the note in ?`:::` about the use of this operator.
* checking S3 generic/method consistency ... OK
* checking replacement functions ... OK
* checking foreign function calls ... OK
* checking R code for possible problems ... NOTE
getPackageNEWS : getNews: no visible binding for global variable
  'Version'
getReverseDepends : <anonymous>: no visible binding for global variable
  'Package'
Undefined global functions or variables:
  Package Version
* checking Rd files ... OK
* checking Rd metadata ... OK
* checking Rd cross-references ... OK
* checking for missing documentation entries ... OK
* checking for code/documentation mismatches ... OK
* checking Rd \usage sections ... OK
* checking Rd contents ... OK
* checking for unstated dependencies in examples ... OK
* checking contents of 'data' directory ... OK
* checking data for non-ASCII characters ... OK
* checking data for ASCII and uncompressed saves ... OK
* checking installed files from 'inst/doc' ... OK
* checking files in 'vignettes' ... OK
* checking examples ...
** running examples for arch 'i386' ... OK
Examples with CPU (user + system) or elapsed time > 5s
                   user system elapsed
recommendPackages 11.22   3.07   14.33
** running examples for arch 'x64' ... OK
Examples with CPU (user + system) or elapsed time > 5s
                  user system elapsed
recommendPackages 8.03   5.31    13.4
* checking for unstated dependencies in 'tests' ... OK
* checking tests ...
** running tests for arch 'i386' ...
  Running 'runTests.R'
 OK
** running tests for arch 'x64' ...
  Running 'runTests.R'
 OK
* checking for unstated dependencies in vignettes ... OK
* checking package vignettes in 'inst/doc' ... OK
* checking running R code from vignettes ... SKIPPED
* checking re-building of vignette outputs ... SKIPPED
* checking PDF version of manual ... OK
* DONE

Status: 2 NOTEs
See
  'C:/Users/biocbuild/bbs-3.13-bioc/meat/biocViews.Rcheck/00check.log'
for details.



Installation output

biocViews.Rcheck/00install.out

##############################################################################
##############################################################################
###
### Running command:
###
###   C:\cygwin\bin\curl.exe -O http://155.52.207.165/BBS/3.13/bioc/src/contrib/biocViews_1.60.0.tar.gz && rm -rf biocViews.buildbin-libdir && mkdir biocViews.buildbin-libdir && C:\Users\biocbuild\bbs-3.13-bioc\R\bin\R.exe CMD INSTALL --merge-multiarch --build --library=biocViews.buildbin-libdir biocViews_1.60.0.tar.gz && C:\Users\biocbuild\bbs-3.13-bioc\R\bin\R.exe CMD INSTALL biocViews_1.60.0.zip && rm biocViews_1.60.0.tar.gz biocViews_1.60.0.zip
###
##############################################################################
##############################################################################


  % Total    % Received % Xferd  Average Speed   Time    Time     Time  Current
                                 Dload  Upload   Total   Spent    Left  Speed

  0     0    0     0    0     0      0      0 --:--:-- --:--:-- --:--:--     0
 14 75196   14 10798    0     0   191k      0 --:--:-- --:--:-- --:--:--  191k
100 75196  100 75196    0     0   741k      0 --:--:-- --:--:-- --:--:--  741k

install for i386

* installing *source* package 'biocViews' ...
** using staged installation
** R
** data
** inst
** byte-compile and prepare package for lazy loading
** help
*** installing help indices
  converting help for package 'biocViews'
    finding HTML links ... done
    BiocView-class                          html  
    Htmlized-class                          html  
    PackageDetail-class                     html  
    RepositoryDetail-class                  html  
    biocViews-package                       html  
    biocViewsVocab                          html  
    extractManuals                          html  
    extractNEWS                             html  
    extractTopLevelFiles                    html  
    extractVignettes                        html  
    genReposControlFiles                    html  
    getBiocSubViews                         html  
    getBiocViews                            html  
    getCurrentbiocViews                     html  
    getPackageNEWS                          html  
    getPackageTitles                        html  
    getPacksAndViews                        html  
    getSubTerms                             html  
    guessPackageType                        html  
    htmlDoc                                 html  
    htmlFilename                            html  
    htmlValue                               html  
    recommendBiocViews                      html  
    recommendPackages                       html  
    validation_tests                        html  
    writeBiocViews                          html  
    writeHtmlDoc                            html  
    writePackageDetailHtml                  html  
    writeRFilesFromVignettes                html  
    writeRepositoryHtml                     html  
    writeTopLevelView                       html  
    write_REPOSITORY                        html  
    write_SYMBOLS                           html  
    write_VIEWS                             html  
** building package indices
** installing vignettes
   'HOWTO-BCV.Rnw' 
   'createReposHtml.Rnw' 
** testing if installed package can be loaded from temporary location
** testing if installed package can be loaded from final location
** testing if installed package keeps a record of temporary installation path

install for x64

* installing *source* package 'biocViews' ...
** testing if installed package can be loaded
* MD5 sums
packaged installation of 'biocViews' as biocViews_1.60.0.zip
* DONE (biocViews)
* installing to library 'C:/Users/biocbuild/bbs-3.13-bioc/R/library'
package 'biocViews' successfully unpacked and MD5 sums checked

Tests output

biocViews.Rcheck/tests_i386/runTests.Rout


R version 4.1.0 (2021-05-18) -- "Camp Pontanezen"
Copyright (C) 2021 The R Foundation for Statistical Computing
Platform: i386-w64-mingw32/i386 (32-bit)

R is free software and comes with ABSOLUTELY NO WARRANTY.
You are welcome to redistribute it under certain conditions.
Type 'license()' or 'licence()' for distribution details.

R is a collaborative project with many contributors.
Type 'contributors()' for more information and
'citation()' on how to cite R or R packages in publications.

Type 'demo()' for some demos, 'help()' for on-line help, or
'help.start()' for an HTML browser interface to help.
Type 'q()' to quit R.

> BiocGenerics:::testPackage("biocViews")
Generate citation for C:\Users\biocbuild\bbs-3.13-bioc\tmpdir\RtmpsPks4A/testing/testrepos/src/contrib/biocViews2_1.60.0.tar.gz ... (try to process CITATION file) OK
Generate citation for C:\Users\biocbuild\bbs-3.13-bioc\tmpdir\RtmpsPks4A/testing/testrepos/src/contrib/biocViews_1.60.0.tar.gz ... /usr/bin/tar: biocViews/inst/CITATION: Not found in archive
/usr/bin/tar: Exiting with failure status due to previous errors
(auto-generate from DESCRIPTION file) OK


RUNIT TEST PROTOCOL -- Sun Aug 01 20:29:27 2021 
*********************************************** 
Number of test functions: 5 
Number of errors: 0 
Number of failures: 0 

 
1 Test Suite : 
biocViews RUnit Tests - 5 test functions, 0 errors, 0 failures
Number of test functions: 5 
Number of errors: 0 
Number of failures: 0 
Warning messages:
1: In untar(tarball, tpaths, exdir = tmpdir) :
  'tar.exe -xf "C:\Users\biocbuild\bbs-3.13-bioc\tmpdir\RtmpsPks4A/testing/testrepos/src/contrib/biocViews_1.60.0.tar.gz" -C "C:/Users/biocbuild/bbs-3.13-bioc/tmpdir/RtmpsPks4A" "biocViews/DESCRIPTION" "biocViews/inst/CITATION"' returned error code 2
2: In citation(pkgname, lib.loc = tmpdir, auto = description) :
  no date field in DESCRIPTION file of package 'biocViews'
3: In citation(pkgname, lib.loc = tmpdir, auto = description) :
  could not determine year for 'biocViews' from package DESCRIPTION file
> 
> proc.time()
   user  system elapsed 
  58.71   16.68   75.95 

biocViews.Rcheck/tests_x64/runTests.Rout


R version 4.1.0 (2021-05-18) -- "Camp Pontanezen"
Copyright (C) 2021 The R Foundation for Statistical Computing
Platform: x86_64-w64-mingw32/x64 (64-bit)

R is free software and comes with ABSOLUTELY NO WARRANTY.
You are welcome to redistribute it under certain conditions.
Type 'license()' or 'licence()' for distribution details.

R is a collaborative project with many contributors.
Type 'contributors()' for more information and
'citation()' on how to cite R or R packages in publications.

Type 'demo()' for some demos, 'help()' for on-line help, or
'help.start()' for an HTML browser interface to help.
Type 'q()' to quit R.

> BiocGenerics:::testPackage("biocViews")
Generate citation for C:\Users\biocbuild\bbs-3.13-bioc\tmpdir\RtmpSCRjLR/testing/testrepos/src/contrib/biocViews2_1.60.0.tar.gz ... (try to process CITATION file) OK
Generate citation for C:\Users\biocbuild\bbs-3.13-bioc\tmpdir\RtmpSCRjLR/testing/testrepos/src/contrib/biocViews_1.60.0.tar.gz ... /usr/bin/tar: biocViews/inst/CITATION: Not found in archive
/usr/bin/tar: Exiting with failure status due to previous errors
(auto-generate from DESCRIPTION file) OK


RUNIT TEST PROTOCOL -- Sun Aug 01 20:30:24 2021 
*********************************************** 
Number of test functions: 5 
Number of errors: 0 
Number of failures: 0 

 
1 Test Suite : 
biocViews RUnit Tests - 5 test functions, 0 errors, 0 failures
Number of test functions: 5 
Number of errors: 0 
Number of failures: 0 
Warning messages:
1: In untar(tarball, tpaths, exdir = tmpdir) :
  'tar.exe -xf "C:\Users\biocbuild\bbs-3.13-bioc\tmpdir\RtmpSCRjLR/testing/testrepos/src/contrib/biocViews_1.60.0.tar.gz" -C "C:/Users/biocbuild/bbs-3.13-bioc/tmpdir/RtmpSCRjLR" "biocViews/DESCRIPTION" "biocViews/inst/CITATION"' returned error code 2
2: In citation(pkgname, lib.loc = tmpdir, auto = description) :
  no date field in DESCRIPTION file of package 'biocViews'
3: In citation(pkgname, lib.loc = tmpdir, auto = description) :
  could not determine year for 'biocViews' from package DESCRIPTION file
> 
> proc.time()
   user  system elapsed 
  39.95   16.28   56.75 

Example timings

biocViews.Rcheck/examples_i386/biocViews-Ex.timings

nameusersystemelapsed
PackageDetail-class0.180.000.17
biocViews-package0.040.000.05
biocViewsVocab000
getBiocSubViews1.110.001.14
getBiocViews0.970.020.98
getCurrentbiocViews000
getPackageTitles000
getSubTerms0.150.000.16
guessPackageType0.000.020.01
recommendPackages11.22 3.0714.33
validation_tests0.000.020.02

biocViews.Rcheck/examples_x64/biocViews-Ex.timings

nameusersystemelapsed
PackageDetail-class0.170.000.17
biocViews-package0.040.010.05
biocViewsVocab0.010.000.01
getBiocSubViews0.910.020.93
getBiocViews0.750.000.75
getCurrentbiocViews000
getPackageTitles000
getSubTerms0.140.010.15
guessPackageType000
recommendPackages 8.03 5.3113.40
validation_tests000