Back to Multiple platform build/check report for BioC 3.13
A[B]CDEFGHIJKLMNOPQRSTUVWXYZ

This page was generated on 2021-07-30 15:05:46 -0400 (Fri, 30 Jul 2021).

BUILD BIN results for biocViews on tokay2

To the developers/maintainers of the biocViews package:
- Please allow up to 24 hours (and sometimes 48 hours) for your latest push to git@git.bioconductor.org:packages/biocViews.git to
reflect on this report. See How and When does the builder pull? When will my changes propagate? here for more information.
- Make sure to use the following settings in order to reproduce any error or warning you see on this page.

raw results

Package 176/2041HostnameOS / ArchINSTALLBUILDCHECKBUILD BIN
biocViews 1.60.0  (landing page)
Bioconductor Package Maintainer
Snapshot Date: 2021-07-29 04:50:02 -0400 (Thu, 29 Jul 2021)
URL: https://git.bioconductor.org/packages/biocViews
Branch: RELEASE_3_13
Last Commit: b861d8d
Last Changed Date: 2021-05-19 11:36:22 -0400 (Wed, 19 May 2021)
nebbiolo1Linux (Ubuntu 20.04.2 LTS) / x86_64  OK    OK    OK  UNNEEDED, same version is already published
tokay2Windows Server 2012 R2 Standard / x64  OK    OK    OK    OK  UNNEEDED, same version is already published
machv2macOS 10.14.6 Mojave / x86_64  OK    OK    OK    OK  UNNEEDED, same version is already published

Summary

Package: biocViews
Version: 1.60.0
Command: rm -rf biocViews.buildbin-libdir && mkdir biocViews.buildbin-libdir && C:\Users\biocbuild\bbs-3.13-bioc\R\bin\R.exe CMD INSTALL --merge-multiarch --build --library=biocViews.buildbin-libdir biocViews_1.60.0.tar.gz
StartedAt: 2021-07-30 08:32:34 -0400 (Fri, 30 Jul 2021)
EndedAt: 2021-07-30 08:33:50 -0400 (Fri, 30 Jul 2021)
EllapsedTime: 75.2 seconds
RetCode: 0
Status:   OK  
PackageFile: biocViews_1.60.0.zip
PackageFileSize: 721 KiB

Command output

##############################################################################
##############################################################################
###
### Running command:
###
###   rm -rf biocViews.buildbin-libdir && mkdir biocViews.buildbin-libdir && C:\Users\biocbuild\bbs-3.13-bioc\R\bin\R.exe CMD INSTALL --merge-multiarch --build --library=biocViews.buildbin-libdir biocViews_1.60.0.tar.gz
###
##############################################################################
##############################################################################



install for i386

* installing *source* package 'biocViews' ...
** using staged installation
** R
** data
** inst
** byte-compile and prepare package for lazy loading
** help
*** installing help indices
  converting help for package 'biocViews'
    finding HTML links ... done
    BiocView-class                          html  
    Htmlized-class                          html  
    PackageDetail-class                     html  
    RepositoryDetail-class                  html  
    biocViews-package                       html  
    biocViewsVocab                          html  
    extractManuals                          html  
    extractNEWS                             html  
    extractTopLevelFiles                    html  
    extractVignettes                        html  
    genReposControlFiles                    html  
    getBiocSubViews                         html  
    getBiocViews                            html  
    getCurrentbiocViews                     html  
    getPackageNEWS                          html  
    getPackageTitles                        html  
    getPacksAndViews                        html  
    getSubTerms                             html  
    guessPackageType                        html  
    htmlDoc                                 html  
    htmlFilename                            html  
    htmlValue                               html  
    recommendBiocViews                      html  
    recommendPackages                       html  
    validation_tests                        html  
    writeBiocViews                          html  
    writeHtmlDoc                            html  
    writePackageDetailHtml                  html  
    writeRFilesFromVignettes                html  
    writeRepositoryHtml                     html  
    writeTopLevelView                       html  
    write_REPOSITORY                        html  
    write_SYMBOLS                           html  
    write_VIEWS                             html  
** building package indices
** installing vignettes
** testing if installed package can be loaded from temporary location
** testing if installed package can be loaded from final location
** testing if installed package keeps a record of temporary installation path

install for x64

* installing *source* package 'biocViews' ...
** testing if installed package can be loaded
* MD5 sums
packaged installation of 'biocViews' as biocViews_1.60.0.zip
* DONE (biocViews)