Back to Multiple platform build/check report for BioC 3.19:   simplified   long
A[B]CDEFGHIJKLMNOPQRSTUVWXYZ

This page was generated on 2024-06-18 17:58 -0400 (Tue, 18 Jun 2024).

HostnameOSArch (*)R versionInstalled pkgs
nebbiolo1Linux (Ubuntu 22.04.3 LTS)x86_644.4.0 (2024-04-24) -- "Puppy Cup" 4758
palomino3Windows Server 2022 Datacenterx644.4.0 (2024-04-24 ucrt) -- "Puppy Cup" 4492
merida1macOS 12.7.4 Montereyx86_644.4.0 (2024-04-24) -- "Puppy Cup" 4464
kjohnson1macOS 13.6.6 Venturaarm644.4.0 (2024-04-24) -- "Puppy Cup" 4464
Click on any hostname to see more info about the system (e.g. compilers)      (*) as reported by 'uname -p', except on Windows and Mac OS X

Package 162/2300HostnameOS / ArchINSTALLBUILDCHECKBUILD BIN
bgx 1.70.0  (landing page)
Ernest Turro
Snapshot Date: 2024-06-16 14:00 -0400 (Sun, 16 Jun 2024)
git_url: https://git.bioconductor.org/packages/bgx
git_branch: RELEASE_3_19
git_last_commit: 83539c4
git_last_commit_date: 2024-04-30 10:16:51 -0400 (Tue, 30 Apr 2024)
nebbiolo1Linux (Ubuntu 22.04.3 LTS) / x86_64  OK    OK    OK  UNNEEDED, same version is already published
palomino3Windows Server 2022 Datacenter / x64  OK    OK    OK    OK  UNNEEDED, same version is already published
merida1macOS 12.7.4 Monterey / x86_64  OK    OK    WARNINGS    OK  UNNEEDED, same version is already published
kjohnson1macOS 13.6.6 Ventura / arm64  OK    OK    OK    OK  UNNEEDED, same version is already published


BUILD BIN results for bgx on palomino3

To the developers/maintainers of the bgx package:
- Allow up to 24 hours (and sometimes 48 hours) for your latest push to git@git.bioconductor.org:packages/bgx.git to reflect on this report. See Troubleshooting Build Report for more information.
- Use the following Renviron settings to reproduce errors and warnings.
- If 'R CMD check' started to fail recently on the Linux builder(s) over a missing dependency, add the missing dependency to 'Suggests:' in your DESCRIPTION file. See Renviron.bioc for more information.

raw results


Summary

Package: bgx
Version: 1.70.0
Command: rm -rf bgx.buildbin-libdir && mkdir bgx.buildbin-libdir && F:\biocbuild\bbs-3.19-bioc\R\bin\R.exe CMD INSTALL --build --library=bgx.buildbin-libdir bgx_1.70.0.tar.gz
StartedAt: 2024-06-17 15:25:11 -0400 (Mon, 17 Jun 2024)
EndedAt: 2024-06-17 15:27:20 -0400 (Mon, 17 Jun 2024)
EllapsedTime: 128.8 seconds
RetCode: 0
Status:   OK  
PackageFile: bgx_1.70.0.zip
PackageFileSize: 536.5 KiB

Command output

##############################################################################
##############################################################################
###
### Running command:
###
###   rm -rf bgx.buildbin-libdir && mkdir bgx.buildbin-libdir && F:\biocbuild\bbs-3.19-bioc\R\bin\R.exe CMD INSTALL --build --library=bgx.buildbin-libdir bgx_1.70.0.tar.gz
###
##############################################################################
##############################################################################


* installing *source* package 'bgx' ...
** using staged installation
** libs
using C compiler: 'gcc.exe (GCC) 13.2.0'
using C++ compiler: 'G__~1.EXE (GCC) 13.2.0'
g++ -std=gnu++17  -I"F:/biocbuild/bbs-3.19-bioc/R/include" -DNDEBUG -I ../boostIncl -I'F:/biocbuild/bbs-3.19-bioc/R/library/Rcpp/include'   -I"C:/rtools44/x86_64-w64-mingw32.static.posix/include"  -DUSING_R -ffast-math -O3   -O2 -Wall  -mfpmath=sse -msse2 -mstackrealign  -c bgx.cc -o bgx.o
In file included from bgx.cc:32:
rand.hh: In member function 'RealType Rand<GenType, RealType>::Normal()':
rand.hh:399:7: warning: this 'if' clause does not guard... [-Wmisleading-indentation]
  399 |       if(u0<.5) return y; return -y;
      |       ^~
rand.hh:399:27: note: ...this statement, but the latter is misleadingly indented as if it were guarded by the 'if'
  399 |       if(u0<.5) return y; return -y;
      |                           ^~~~~~
rand.hh:406:7: warning: this 'if' clause does not guard... [-Wmisleading-indentation]
  406 |       if(u0<.5) return y; return -y;
      |       ^~
rand.hh:406:27: note: ...this statement, but the latter is misleadingly indented as if it were guarded by the 'if'
  406 |       if(u0<.5) return y; return -y;
      |                           ^~~~~~
rand.hh:413:7: warning: this 'if' clause does not guard... [-Wmisleading-indentation]
  413 |       if(u0<.5) return y; return -y;
      |       ^~
rand.hh:413:27: note: ...this statement, but the latter is misleadingly indented as if it were guarded by the 'if'
  413 |       if(u0<.5) return y; return -y;
      |                           ^~~~~~
rand.hh:420:5: warning: this 'if' clause does not guard... [-Wmisleading-indentation]
  420 |     if(u0<.5) return y; return -y;
      |     ^~
rand.hh:420:25: note: ...this statement, but the latter is misleadingly indented as if it were guarded by the 'if'
  420 |     if(u0<.5) return y; return -y;
      |                         ^~~~~~
g++ -std=gnu++17  -I"F:/biocbuild/bbs-3.19-bioc/R/include" -DNDEBUG -I ../boostIncl -I'F:/biocbuild/bbs-3.19-bioc/R/library/Rcpp/include'   -I"C:/rtools44/x86_64-w64-mingw32.static.posix/include"  -DUSING_R -ffast-math -O3   -O2 -Wall  -mfpmath=sse -msse2 -mstackrealign  -c bgx_frontend.cc -o bgx_frontend.o
gcc  -I"F:/biocbuild/bbs-3.19-bioc/R/include" -DNDEBUG -I ../boostIncl -I'F:/biocbuild/bbs-3.19-bioc/R/library/Rcpp/include'   -I"C:/rtools44/x86_64-w64-mingw32.static.posix/include"  -DUSING_R -ffast-math -O3  -std=c99   -O2 -Wall  -mfpmath=sse -msse2 -mstackrealign  -c qnorm.c -o qnorm.o
g++ -std=gnu++17  -I"F:/biocbuild/bbs-3.19-bioc/R/include" -DNDEBUG -I ../boostIncl -I'F:/biocbuild/bbs-3.19-bioc/R/library/Rcpp/include'   -I"C:/rtools44/x86_64-w64-mingw32.static.posix/include"  -DUSING_R -ffast-math -O3   -O2 -Wall  -mfpmath=sse -msse2 -mstackrealign  -c rundir.cc -o rundir.o
g++ -std=gnu++17  -I"F:/biocbuild/bbs-3.19-bioc/R/include" -DNDEBUG -I ../boostIncl -I'F:/biocbuild/bbs-3.19-bioc/R/library/Rcpp/include'   -I"C:/rtools44/x86_64-w64-mingw32.static.posix/include"  -DUSING_R -ffast-math -O3   -O2 -Wall  -mfpmath=sse -msse2 -mstackrealign  -c sokal.cc -o sokal.o
g++ -std=gnu++17 -shared -s -static-libgcc -o bgx.dll tmp.def bgx.o bgx_frontend.o qnorm.o rundir.o sokal.o -LC:/rtools44/x86_64-w64-mingw32.static.posix/lib/x64 -LC:/rtools44/x86_64-w64-mingw32.static.posix/lib -LF:/biocbuild/bbs-3.19-bioc/R/bin/x64 -lR
installing to F:/biocbuild/bbs-3.19-bioc/meat/bgx.buildbin-libdir/00LOCK-bgx/00new/bgx/libs/x64
** R
** inst
** byte-compile and prepare package for lazy loading
** help
*** installing help indices
** building package indices
** installing vignettes
** testing if installed package can be loaded from temporary location
** testing if installed package can be loaded from final location
** testing if installed package keeps a record of temporary installation path
* MD5 sums
packaged installation of 'bgx' as bgx_1.70.0.zip
* DONE (bgx)