Back to Multiple platform build/check report for BioC 3.14
A[B]CDEFGHIJKLMNOPQRSTUVWXYZ

This page was generated on 2021-11-26 15:05:10 -0500 (Fri, 26 Nov 2021).

BUILD BIN results for barcodetrackR on tokay2

To the developers/maintainers of the barcodetrackR package:
- Please allow up to 24 hours (and sometimes 48 hours) for your latest push to git@git.bioconductor.org:packages/barcodetrackR.git to
reflect on this report. See How and When does the builder pull? When will my changes propagate? here for more information.
- Make sure to use the following settings in order to reproduce any error or warning you see on this page.

raw results

Package 114/2083HostnameOS / ArchINSTALLBUILDCHECKBUILD BIN
barcodetrackR 1.2.0  (landing page)
Diego Alexander Espinoza
Snapshot Date: 2021-11-25 04:15:05 -0500 (Thu, 25 Nov 2021)
git_url: https://git.bioconductor.org/packages/barcodetrackR
git_branch: RELEASE_3_14
git_last_commit: 29ecd67
git_last_commit_date: 2021-10-26 13:08:19 -0500 (Tue, 26 Oct 2021)
nebbiolo2Linux (Ubuntu 20.04.3 LTS) / x86_64  OK    OK    OK  UNNEEDED, same version is already published
tokay2Windows Server 2012 R2 Standard / x64  OK    OK    OK    OK  UNNEEDED, same version is already published
machv2macOS 10.14.6 Mojave / x86_64  OK    OK    OK    OK  UNNEEDED, same version is already published

Summary

Package: barcodetrackR
Version: 1.2.0
Command: rm -rf barcodetrackR.buildbin-libdir && mkdir barcodetrackR.buildbin-libdir && C:\Users\biocbuild\bbs-3.14-bioc\R\bin\R.exe CMD INSTALL --merge-multiarch --build --library=barcodetrackR.buildbin-libdir barcodetrackR_1.2.0.tar.gz
StartedAt: 2021-11-26 08:23:08 -0500 (Fri, 26 Nov 2021)
EndedAt: 2021-11-26 08:24:24 -0500 (Fri, 26 Nov 2021)
EllapsedTime: 76.5 seconds
RetCode: 0
Status:   OK  
PackageFile: barcodetrackR_1.2.0.zip
PackageFileSize: 2.004 MiB

Command output

##############################################################################
##############################################################################
###
### Running command:
###
###   rm -rf barcodetrackR.buildbin-libdir && mkdir barcodetrackR.buildbin-libdir && C:\Users\biocbuild\bbs-3.14-bioc\R\bin\R.exe CMD INSTALL --merge-multiarch --build --library=barcodetrackR.buildbin-libdir barcodetrackR_1.2.0.tar.gz
###
##############################################################################
##############################################################################



install for i386

* installing *source* package 'barcodetrackR' ...
** using staged installation
** R
** data
** inst
** byte-compile and prepare package for lazy loading
** help
*** installing help indices
  converting help for package 'barcodetrackR'
    finding HTML links ... done
    barcode_binary_heatmap                  html  
    barcode_ggheatmap                       html  
    barcode_ggheatmap_stat                  html  
    barcode_stat_test                       html  
    bias_histogram                          html  
    bias_lineplot                           html  
    bias_ridge_plot                         html  
    build_index_html                        html  
    chord_diagram                           html  
    clonal_contribution                     html  
    clonal_count                            html  
    clonal_diversity                        html  
    cor_plot                                html  
    create_SE                               html  
    dist_plot                               html  
    estimate_barcode_threshold              html  
    get_top_clones                          html  
    launchApp                               html  
    mds_plot                                html  
    rank_abundance_plot                     html  
    rank_abundance_stat_test                html  
    scatter_plot                            html  
    stat_hist                               html  
    subset_SE                               html  
    threshold                               html  
    threshold_SE                            html  
    wu_subset                               html  
** building package indices
** installing vignettes
** testing if installed package can be loaded from temporary location
** testing if installed package can be loaded from final location
** testing if installed package keeps a record of temporary installation path

install for x64

* installing *source* package 'barcodetrackR' ...
** testing if installed package can be loaded
* MD5 sums
packaged installation of 'barcodetrackR' as barcodetrackR_1.2.0.zip
* DONE (barcodetrackR)