![]() | Name | Last modified | Size | Description |
---|---|---|---|---|
![]() | Parent Directory | - | ||
![]() | buildbin-out.txt | 23-Sep-2023 00:37 | 1.2K | |
![]() | buildbin-summary.dcf | 23-Sep-2023 00:37 | 563 | |
![]() | buildsrc-out.txt | 23-Sep-2023 00:37 | 902 | |
![]() | buildsrc-summary.dcf | 23-Sep-2023 00:37 | 443 | |
![]() | checksrc-out.txt | 23-Sep-2023 00:37 | 3.5K | |
![]() | checksrc-summary.dcf | 23-Sep-2023 00:37 | 466 | |
![]() | install-out.txt | 23-Sep-2023 00:37 | 1.0K | |
![]() | install-summary.dcf | 23-Sep-2023 00:37 | 280 | |