Index of /checkResults/release/bioc-LATEST/barcodetrackR/raw-results

[ICO]NameLast modifiedSizeDescription

[DIR]Parent Directory  -  
[DIR]palomino3/01-Oct-2023 00:36 -  
[DIR]nebbiolo1/01-Oct-2023 00:35 -  
[DIR]merida1/01-Oct-2023 00:36 -  
[   ]info.dcf01-Oct-2023 00:36 311