Back to Multiple platform build/check report for BioC 3.13
A[B]CDEFGHIJKLMNOPQRSTUVWXYZ

This page was generated on 2021-09-22 15:05:08 -0400 (Wed, 22 Sep 2021).

BUILD results for bambu on tokay2

To the developers/maintainers of the bambu package:
- Please allow up to 24 hours (and sometimes 48 hours) for your latest push to git@git.bioconductor.org:packages/bambu.git to
reflect on this report. See How and When does the builder pull? When will my changes propagate? here for more information.
- Make sure to use the following settings in order to reproduce any error or warning you see on this page.

raw results

Package 113/2041HostnameOS / ArchINSTALLBUILDCHECKBUILD BIN
bambu 1.2.1  (landing page)
Ying Chen
Snapshot Date: 2021-09-21 04:50:12 -0400 (Tue, 21 Sep 2021)
git_url: https://git.bioconductor.org/packages/bambu
git_branch: RELEASE_3_13
git_last_commit: 1c71eae
git_last_commit_date: 2021-08-30 02:22:04 -0400 (Mon, 30 Aug 2021)
nebbiolo1Linux (Ubuntu 20.04.2 LTS) / x86_64  OK    OK    OK  UNNEEDED, same version is already published
tokay2Windows Server 2012 R2 Standard / x64  OK    OK    OK    OK  UNNEEDED, same version is already published
machv2macOS 10.14.6 Mojave / x86_64  OK    OK    OK    OK  UNNEEDED, same version is already published

Summary

Package: bambu
Version: 1.2.1
Command: chmod a+r bambu -R && C:\Users\biocbuild\bbs-3.13-bioc\R\bin\R.exe CMD build --keep-empty-dirs --no-resave-data bambu
StartedAt: 2021-09-21 11:39:30 -0400 (Tue, 21 Sep 2021)
EndedAt: 2021-09-21 11:45:11 -0400 (Tue, 21 Sep 2021)
EllapsedTime: 340.8 seconds
RetCode: 0
Status:   OK  
PackageFile: bambu_1.2.1.tar.gz
PackageFileSize: 2.38 MiB

Command output

##############################################################################
##############################################################################
###
### Running command:
###
###   chmod a+r bambu -R && C:\Users\biocbuild\bbs-3.13-bioc\R\bin\R.exe CMD build --keep-empty-dirs --no-resave-data bambu
###
##############################################################################
##############################################################################


* checking for file 'bambu/DESCRIPTION' ... OK
* preparing 'bambu':
* checking DESCRIPTION meta-information ... OK
* cleaning src
* installing the package to build vignettes
* creating vignettes ... OK
* cleaning src
* checking for LF line-endings in source and make files and shell scripts
* checking for empty or unneeded directories
Omitted 'LazyData' from DESCRIPTION
* building 'bambu_1.2.1.tar.gz'