Back to Multiple platform build/check report for BioC 3.13
A[B]CDEFGHIJKLMNOPQRSTUVWXYZ

This page was generated on 2021-07-23 15:06:27 -0400 (Fri, 23 Jul 2021).

BUILD BIN results for ballgown on machv2

To the developers/maintainers of the ballgown package:
- Please allow up to 24 hours (and sometimes 48 hours) for your latest push to git@git.bioconductor.org:packages/ballgown.git to
reflect on this report. See How and When does the builder pull? When will my changes propagate? here for more information.
- Make sure to use the following settings in order to reproduce any error or warning you see on this page.

raw results

Package 112/2041HostnameOS / ArchINSTALLBUILDCHECKBUILD BIN
ballgown 2.24.0  (landing page)
Jack Fu
Snapshot Date: 2021-07-22 04:50:13 -0400 (Thu, 22 Jul 2021)
URL: https://git.bioconductor.org/packages/ballgown
Branch: RELEASE_3_13
Last Commit: 34829e1
Last Changed Date: 2021-05-19 12:06:23 -0400 (Wed, 19 May 2021)
nebbiolo1Linux (Ubuntu 20.04.2 LTS) / x86_64  OK    OK    OK  UNNEEDED, same version is already published
tokay2Windows Server 2012 R2 Standard / x64  OK    OK    OK    OK  UNNEEDED, same version is already published
machv2macOS 10.14.6 Mojave / x86_64  OK    OK    OK    OK  UNNEEDED, same version is already published

Summary

Package: ballgown
Version: 2.24.0
Command: rm -rf ballgown.buildbin-libdir && mkdir ballgown.buildbin-libdir && /Users/biocbuild/BBS/utils/build-universal.sh ballgown_2.24.0.tar.gz /Library/Frameworks/R.framework/Versions/Current/Resources/bin/R ballgown.buildbin-libdir
StartedAt: 2021-07-23 01:18:48 -0400 (Fri, 23 Jul 2021)
EndedAt: 2021-07-23 01:19:39 -0400 (Fri, 23 Jul 2021)
EllapsedTime: 51.1 seconds
RetCode: 0
Status:   OK  
PackageFile: ballgown_2.24.0.tgz
PackageFileSize: 3.256 MiB

Command output

##############################################################################
##############################################################################
###
### Running command:
###
###   rm -rf ballgown.buildbin-libdir && mkdir ballgown.buildbin-libdir && /Users/biocbuild/BBS/utils/build-universal.sh ballgown_2.24.0.tar.gz /Library/Frameworks/R.framework/Versions/Current/Resources/bin/R ballgown.buildbin-libdir
###
##############################################################################
##############################################################################


>>>>>>> 
>>>>>>> INSTALLATION WITH 'R CMD INSTALL --preclean --no-multiarch --library=ballgown.buildbin-libdir ballgown_2.24.0.tar.gz'
>>>>>>> 

* installing *source* package ‘ballgown’ ...
** using staged installation
** R
** data
** inst
** byte-compile and prepare package for lazy loading
Creating a new generic function for ‘structure’ in package ‘ballgown’
** help
*** installing help indices
** building package indices
** installing vignettes
** testing if installed package can be loaded from temporary location
** testing if installed package can be loaded from final location
** testing if installed package keeps a record of temporary installation path
* DONE (ballgown)