Index of /checkResults/release/bioc-LATEST/autonomics/raw-results/tokay2

[ICO]NameLast modifiedSizeDescription

[DIR]Parent Directory  -  
[TXT]buildbin-out.txt02-Dec-2021 07:17 6.5K 
[   ]buildbin-summary.dcf02-Dec-2021 07:17 554  
[TXT]buildsrc-out.txt02-Dec-2021 07:17 896  
[   ]buildsrc-summary.dcf02-Dec-2021 07:17 469  
[TXT]checksrc-out.txt02-Dec-2021 07:17 6.1K 
[   ]checksrc-summary.dcf02-Dec-2021 07:17 479  
[TXT]install-out.txt02-Dec-2021 07:17 7.4K 
[   ]install-summary.dcf02-Dec-2021 07:17 662