Index of /checkResults/release/bioc-LATEST/autonomics/raw-results/nebbiolo2

[ICO]NameLast modifiedSizeDescription

[DIR]Parent Directory  -  
[TXT]buildsrc-out.txt27-Jan-2022 03:05 857  
[   ]buildsrc-summary.dcf27-Jan-2022 03:05 425  
[TXT]checksrc-out.txt27-Jan-2022 03:05 4.6K 
[   ]checksrc-summary.dcf27-Jan-2022 03:05 440  
[TXT]install-out.txt27-Jan-2022 03:05 1.0K 
[   ]install-summary.dcf27-Jan-2022 03:05 264