Index of /checkResults/release/bioc-LATEST/autonomics/raw-results/machv2

[ICO]NameLast modifiedSizeDescription

[DIR]Parent Directory  -  
[TXT]buildbin-out.txt02-Dec-2021 07:18 1.2K 
[   ]buildbin-summary.dcf02-Dec-2021 07:18 545  
[TXT]buildsrc-out.txt02-Dec-2021 07:18 867  
[   ]buildsrc-summary.dcf02-Dec-2021 07:18 435  
[TXT]checksrc-out.txt02-Dec-2021 07:18 5.0K 
[   ]checksrc-summary.dcf02-Dec-2021 07:18 460  
[TXT]install-out.txt02-Dec-2021 07:18 1.0K 
[   ]install-summary.dcf02-Dec-2021 07:18 274