Back to Multiple platform build/check report for BioC 3.13
[A]BCDEFGHIJKLMNOPQRSTUVWXYZ

This page was generated on 2021-09-20 15:05:35 -0400 (Mon, 20 Sep 2021).

BUILD BIN results for autonomics on machv2

To the developers/maintainers of the autonomics package:
- Please allow up to 24 hours (and sometimes 48 hours) for your latest push to git@git.bioconductor.org:packages/autonomics.git to
reflect on this report. See How and When does the builder pull? When will my changes propagate? here for more information.
- Make sure to use the following settings in order to reproduce any error or warning you see on this page.

raw results

Package 102/2041HostnameOS / ArchINSTALLBUILDCHECKBUILD BIN
autonomics 1.0.1  (landing page)
Aditya Bhagwat
Snapshot Date: 2021-09-19 04:50:10 -0400 (Sun, 19 Sep 2021)
git_url: https://git.bioconductor.org/packages/autonomics
git_branch: RELEASE_3_13
git_last_commit: 5df16f7
git_last_commit_date: 2021-05-25 07:57:21 -0400 (Tue, 25 May 2021)
nebbiolo1Linux (Ubuntu 20.04.2 LTS) / x86_64  OK    OK    WARNINGS  UNNEEDED, same version is already published
tokay2Windows Server 2012 R2 Standard / x64  OK    OK    ERROR    OK  
machv2macOS 10.14.6 Mojave / x86_64  OK    OK    WARNINGS    OK  UNNEEDED, same version is already published

Summary

Package: autonomics
Version: 1.0.1
Command: rm -rf autonomics.buildbin-libdir && mkdir autonomics.buildbin-libdir && /Users/biocbuild/BBS/utils/build-universal.sh autonomics_1.0.1.tar.gz /Library/Frameworks/R.framework/Versions/Current/Resources/bin/R autonomics.buildbin-libdir
StartedAt: 2021-09-20 01:36:21 -0400 (Mon, 20 Sep 2021)
EndedAt: 2021-09-20 01:37:33 -0400 (Mon, 20 Sep 2021)
EllapsedTime: 72.4 seconds
RetCode: 0
Status:   OK  
PackageFile: autonomics_1.0.1.tgz
PackageFileSize: 3.05 MiB

Command output

##############################################################################
##############################################################################
###
### Running command:
###
###   rm -rf autonomics.buildbin-libdir && mkdir autonomics.buildbin-libdir && /Users/biocbuild/BBS/utils/build-universal.sh autonomics_1.0.1.tar.gz /Library/Frameworks/R.framework/Versions/Current/Resources/bin/R autonomics.buildbin-libdir
###
##############################################################################
##############################################################################


>>>>>>> 
>>>>>>> INSTALLATION WITH 'R CMD INSTALL --preclean --no-multiarch --library=autonomics.buildbin-libdir autonomics_1.0.1.tar.gz'
>>>>>>> 

* installing *source* package ‘autonomics’ ...
** using staged installation
** R
** inst
** byte-compile and prepare package for lazy loading
Note: wrong number of arguments to '/' 
** help
*** installing help indices
** building package indices
** installing vignettes
** testing if installed package can be loaded from temporary location
** testing if installed package can be loaded from final location
** testing if installed package keeps a record of temporary installation path
* DONE (autonomics)