Back to Multiple platform build/check report for BioC 3.12
[A]BCDEFGHIJKLMNOPQRSTUVWXYZ

Multiple platform build/check report for BioC 3.12

All results for package atSNP

This page was generated on 2021-05-05 12:08:27 -0400 (Wed, 05 May 2021).

Package 100/1974HostnameOS / ArchINSTALLBUILDCHECKBUILD BIN
atSNP 1.6.1  (landing page)
Sunyoung Shin
Snapshot Date: 2021-05-04 14:50:13 -0400 (Tue, 04 May 2021)
URL: https://git.bioconductor.org/packages/atSNP
Branch: RELEASE_3_12
Last Commit: 7864975
Last Changed Date: 2021-04-26 19:17:51 -0400 (Mon, 26 Apr 2021)
malbec1Linux (Ubuntu 18.04.5 LTS) / x86_64  OK    OK    OK  UNNEEDED, same version exists in internal repository
tokay1Windows Server 2012 R2 Standard / x64  OK    OK    OK    OK  UNNEEDED, same version exists in internal repository
merida1macOS 10.14.6 Mojave / x86_64  OK    OK    OK    OK  UNNEEDED, same version exists in internal repository