Back to Multiple platform build/check report for BioC 3.13
[A]BCDEFGHIJKLMNOPQRSTUVWXYZ

This page was generated on 2021-09-24 15:06:02 -0400 (Fri, 24 Sep 2021).

BUILD BIN results for appreci8R on tokay2

To the developers/maintainers of the appreci8R package:
- Please allow up to 24 hours (and sometimes 48 hours) for your latest push to git@git.bioconductor.org:packages/appreci8R.git to
reflect on this report. See How and When does the builder pull? When will my changes propagate? here for more information.
- Make sure to use the following settings in order to reproduce any error or warning you see on this page.

raw results

Package 79/2041HostnameOS / ArchINSTALLBUILDCHECKBUILD BIN
appreci8R 1.10.0  (landing page)
Sarah Sandmann
Snapshot Date: 2021-09-23 04:50:12 -0400 (Thu, 23 Sep 2021)
git_url: https://git.bioconductor.org/packages/appreci8R
git_branch: RELEASE_3_13
git_last_commit: d1399fc
git_last_commit_date: 2021-05-19 12:36:42 -0400 (Wed, 19 May 2021)
nebbiolo1Linux (Ubuntu 20.04.2 LTS) / x86_64  OK    OK    OK  UNNEEDED, same version is already published
tokay2Windows Server 2012 R2 Standard / x64  OK    OK    OK    OK  UNNEEDED, same version is already published
machv2macOS 10.14.6 Mojave / x86_64  OK    OK    OK    OK  UNNEEDED, same version is already published

Summary

Package: appreci8R
Version: 1.10.0
Command: rm -rf appreci8R.buildbin-libdir && mkdir appreci8R.buildbin-libdir && C:\Users\biocbuild\bbs-3.13-bioc\R\bin\R.exe CMD INSTALL --merge-multiarch --build --library=appreci8R.buildbin-libdir appreci8R_1.10.0.tar.gz
StartedAt: 2021-09-24 07:10:57 -0400 (Fri, 24 Sep 2021)
EndedAt: 2021-09-24 07:13:45 -0400 (Fri, 24 Sep 2021)
EllapsedTime: 168.6 seconds
RetCode: 0
Status:   OK  
PackageFile: appreci8R_1.10.0.zip
PackageFileSize: 1.43 MiB

Command output

##############################################################################
##############################################################################
###
### Running command:
###
###   rm -rf appreci8R.buildbin-libdir && mkdir appreci8R.buildbin-libdir && C:\Users\biocbuild\bbs-3.13-bioc\R\bin\R.exe CMD INSTALL --merge-multiarch --build --library=appreci8R.buildbin-libdir appreci8R_1.10.0.tar.gz
###
##############################################################################
##############################################################################



install for i386

* installing *source* package 'appreci8R' ...
** using staged installation
** R
** inst
** byte-compile and prepare package for lazy loading
** help
*** installing help indices
  converting help for package 'appreci8R'
    finding HTML links ... done
    annotate                                html  
    appreci8R-package                       html  
    appreci8Rshiny                          html  
    combineOutput                           html  
    determineCharacteristics                html  
    evaluateCovAndBQ                        html  
    filterTarget                            html  
    finalFiltration                         html  
    normalize                               html  
** building package indices
** installing vignettes
** testing if installed package can be loaded from temporary location
** testing if installed package can be loaded from final location
** testing if installed package keeps a record of temporary installation path

install for x64

* installing *source* package 'appreci8R' ...
** testing if installed package can be loaded
* MD5 sums
packaged installation of 'appreci8R' as appreci8R_1.10.0.zip
* DONE (appreci8R)