Back to Multiple platform build/check report for BioC 3.13
[A]BCDEFGHIJKLMNOPQRSTUVWXYZ

This page was generated on 2021-09-13 15:05:54 -0400 (Mon, 13 Sep 2021).

BUILD results for appreci8R on nebbiolo1

To the developers/maintainers of the appreci8R package:
- Please allow up to 24 hours (and sometimes 48 hours) for your latest push to git@git.bioconductor.org:packages/appreci8R.git to
reflect on this report. See How and When does the builder pull? When will my changes propagate? here for more information.
- Make sure to use the following settings in order to reproduce any error or warning you see on this page.

raw results

Package 79/2041HostnameOS / ArchINSTALLBUILDCHECKBUILD BIN
appreci8R 1.10.0  (landing page)
Sarah Sandmann
Snapshot Date: 2021-09-12 04:50:10 -0400 (Sun, 12 Sep 2021)
git_url: https://git.bioconductor.org/packages/appreci8R
git_branch: RELEASE_3_13
git_last_commit: d1399fc
git_last_commit_date: 2021-05-19 12:36:42 -0400 (Wed, 19 May 2021)
nebbiolo1Linux (Ubuntu 20.04.2 LTS) / x86_64  OK    OK    OK  UNNEEDED, same version is already published
tokay2Windows Server 2012 R2 Standard / x64  OK    OK    OK    OK  UNNEEDED, same version is already published
machv2macOS 10.14.6 Mojave / x86_64  OK    OK    OK    OK  UNNEEDED, same version is already published

Summary

Package: appreci8R
Version: 1.10.0
Command: /home/biocbuild/bbs-3.13-bioc/R/bin/R CMD build --keep-empty-dirs --no-resave-data appreci8R
StartedAt: 2021-09-12 06:40:54 -0400 (Sun, 12 Sep 2021)
EndedAt: 2021-09-12 06:43:31 -0400 (Sun, 12 Sep 2021)
EllapsedTime: 156.8 seconds
RetCode: 0
Status:   OK  
PackageFile: appreci8R_1.10.0.tar.gz
PackageFileSize: 932.2 KiB

Command output

##############################################################################
##############################################################################
###
### Running command:
###
###   /home/biocbuild/bbs-3.13-bioc/R/bin/R CMD build --keep-empty-dirs --no-resave-data appreci8R
###
##############################################################################
##############################################################################


* checking for file ‘appreci8R/DESCRIPTION’ ... OK
* preparing ‘appreci8R’:
* checking DESCRIPTION meta-information ... OK
* installing the package to process help pages
* saving partial Rd database
* creating vignettes ... OK
* checking for LF line-endings in source and make files and shell scripts
* checking for empty or unneeded directories
Omitted ‘LazyData’ from DESCRIPTION
* building ‘appreci8R_1.10.0.tar.gz’