Back to Multiple platform build/check report for BioC 3.13
[A]BCDEFGHIJKLMNOPQRSTUVWXYZ

This page was generated on 2021-07-30 15:05:45 -0400 (Fri, 30 Jul 2021).

CHECK results for apComplex on tokay2

To the developers/maintainers of the apComplex package:
- Please allow up to 24 hours (and sometimes 48 hours) for your latest push to git@git.bioconductor.org:packages/apComplex.git to
reflect on this report. See How and When does the builder pull? When will my changes propagate? here for more information.
- Make sure to use the following settings in order to reproduce any error or warning you see on this page.

raw results

Package 77/2041HostnameOS / ArchINSTALLBUILDCHECKBUILD BIN
apComplex 2.58.0  (landing page)
Denise Scholtens
Snapshot Date: 2021-07-29 04:50:02 -0400 (Thu, 29 Jul 2021)
URL: https://git.bioconductor.org/packages/apComplex
Branch: RELEASE_3_13
Last Commit: 9d396a7
Last Changed Date: 2021-05-19 11:35:18 -0400 (Wed, 19 May 2021)
nebbiolo1Linux (Ubuntu 20.04.2 LTS) / x86_64  OK    OK    OK  UNNEEDED, same version is already published
tokay2Windows Server 2012 R2 Standard / x64  OK    OK    OK    OK  UNNEEDED, same version is already published
machv2macOS 10.14.6 Mojave / x86_64  OK    OK    OK    OK  UNNEEDED, same version is already published

Summary

Package: apComplex
Version: 2.58.0
Command: C:\Users\biocbuild\bbs-3.13-bioc\R\bin\R.exe CMD check --force-multiarch --install=check:apComplex.install-out.txt --library=C:\Users\biocbuild\bbs-3.13-bioc\R\library --no-vignettes --timings apComplex_2.58.0.tar.gz
StartedAt: 2021-07-29 19:54:42 -0400 (Thu, 29 Jul 2021)
EndedAt: 2021-07-29 19:57:13 -0400 (Thu, 29 Jul 2021)
EllapsedTime: 151.0 seconds
RetCode: 0
Status:   OK  
CheckDir: apComplex.Rcheck
Warnings: 0

Command output

##############################################################################
##############################################################################
###
### Running command:
###
###   C:\Users\biocbuild\bbs-3.13-bioc\R\bin\R.exe CMD check --force-multiarch --install=check:apComplex.install-out.txt --library=C:\Users\biocbuild\bbs-3.13-bioc\R\library --no-vignettes --timings apComplex_2.58.0.tar.gz
###
##############################################################################
##############################################################################


* using log directory 'C:/Users/biocbuild/bbs-3.13-bioc/meat/apComplex.Rcheck'
* using R version 4.1.0 (2021-05-18)
* using platform: x86_64-w64-mingw32 (64-bit)
* using session charset: ISO8859-1
* using option '--no-vignettes'
* checking for file 'apComplex/DESCRIPTION' ... OK
* this is package 'apComplex' version '2.58.0'
* checking package namespace information ... OK
* checking package dependencies ... OK
* checking if this is a source package ... OK
* checking if there is a namespace ... OK
* checking for hidden files and directories ... OK
* checking for portable file names ... OK
* checking whether package 'apComplex' can be installed ... OK
* checking installed package size ... OK
* checking package directory ... OK
* checking 'build' directory ... OK
* checking DESCRIPTION meta-information ... OK
* checking top-level files ... OK
* checking for left-over files ... OK
* checking index information ... OK
* checking package subdirectories ... OK
* checking R files for non-ASCII characters ... OK
* checking R files for syntax errors ... OK
* loading checks for arch 'i386'
** checking whether the package can be loaded ... OK
** checking whether the package can be loaded with stated dependencies ... OK
** checking whether the package can be unloaded cleanly ... OK
** checking whether the namespace can be loaded with stated dependencies ... OK
** checking whether the namespace can be unloaded cleanly ... OK
* loading checks for arch 'x64'
** checking whether the package can be loaded ... OK
** checking whether the package can be loaded with stated dependencies ... OK
** checking whether the package can be unloaded cleanly ... OK
** checking whether the namespace can be loaded with stated dependencies ... OK
** checking whether the namespace can be unloaded cleanly ... OK
* checking dependencies in R code ... NOTE
Packages in Depends field not imported from:
  'RBGL' 'graph'
  These packages need to be imported from (in the NAMESPACE file)
  for when this namespace is loaded but not attached.
* checking S3 generic/method consistency ... OK
* checking replacement functions ... OK
* checking foreign function calls ... OK
* checking R code for possible problems ... NOTE
plotComplex: warning in mget(complexMembers, env = org.Sc.sgdGENENAME,
  ifnotfound = NA): partial argument match of 'env' to 'envir'
bhmaxSubgraph: no visible global function definition for 'as'
bhmaxSubgraph: no visible global function definition for 'ugraph'
bhmaxSubgraph: no visible global function definition for 'maxClique'
plotComplex: no visible global function definition for 'subGraph'
plotComplex: no visible global function definition for
  'removeSelfLoops'
plotComplex: no visible global function definition for 'edgeNames'
plotComplex: no visible global function definition for 'numEdges'
plotComplex: no visible global function definition for 'degree'
Undefined global functions or variables:
  as degree edgeNames maxClique numEdges removeSelfLoops subGraph
  ugraph
Consider adding
  importFrom("methods", "as")
to your NAMESPACE file (and ensure that your DESCRIPTION Imports field
contains 'methods').
* checking Rd files ... OK
* checking Rd metadata ... OK
* checking Rd cross-references ... OK
* checking for missing documentation entries ... OK
* checking for code/documentation mismatches ... OK
* checking Rd \usage sections ... OK
* checking Rd contents ... OK
* checking for unstated dependencies in examples ... OK
* checking contents of 'data' directory ... OK
* checking data for non-ASCII characters ... OK
* checking data for ASCII and uncompressed saves ... OK
* checking files in 'vignettes' ... OK
* checking examples ...
** running examples for arch 'i386' ... OK
** running examples for arch 'x64' ... OK
* checking for unstated dependencies in vignettes ... OK
* checking package vignettes in 'inst/doc' ... OK
* checking running R code from vignettes ... SKIPPED
* checking re-building of vignette outputs ... SKIPPED
* checking PDF version of manual ... OK
* DONE

Status: 2 NOTEs
See
  'C:/Users/biocbuild/bbs-3.13-bioc/meat/apComplex.Rcheck/00check.log'
for details.



Installation output

apComplex.Rcheck/00install.out

##############################################################################
##############################################################################
###
### Running command:
###
###   C:\cygwin\bin\curl.exe -O http://155.52.207.165/BBS/3.13/bioc/src/contrib/apComplex_2.58.0.tar.gz && rm -rf apComplex.buildbin-libdir && mkdir apComplex.buildbin-libdir && C:\Users\biocbuild\bbs-3.13-bioc\R\bin\R.exe CMD INSTALL --merge-multiarch --build --library=apComplex.buildbin-libdir apComplex_2.58.0.tar.gz && C:\Users\biocbuild\bbs-3.13-bioc\R\bin\R.exe CMD INSTALL apComplex_2.58.0.zip && rm apComplex_2.58.0.tar.gz apComplex_2.58.0.zip
###
##############################################################################
##############################################################################


  % Total    % Received % Xferd  Average Speed   Time    Time     Time  Current
                                 Dload  Upload   Total   Spent    Left  Speed

  0     0    0     0    0     0      0      0 --:--:-- --:--:-- --:--:--     0
 70  471k   70  333k    0     0  1650k      0 --:--:-- --:--:-- --:--:-- 1651k
100  471k  100  471k    0     0  1987k      0 --:--:-- --:--:-- --:--:-- 1989k

install for i386

* installing *source* package 'apComplex' ...
** using staged installation
** R
** data
** byte-compile and prepare package for lazy loading
** help
*** installing help indices
  converting help for package 'apComplex'
    finding HTML links ... done
    FilteredEstimates                       html  
    HMSPCI                                  html  
    Krogan                                  html  
    LCjoin                                  html  
    MBMEcHMSPCI                             html  
    MBMEcKrogan                             html  
    MBMEcTAP                                html  
    TAP                                     html  
    apEX                                    html  
    bhmaxSubgraph                           html  
    findComplexes                           html  
    gavinBP2006                             html  
    kroganBPMat2006                         html  
    mergeComplexes                          html  
    plotComplex                             html  
    sortComplexes                           html  
    yNameTAP                                html  
    yTAP                                    html  
** building package indices
** installing vignettes
** testing if installed package can be loaded from temporary location
** testing if installed package can be loaded from final location
** testing if installed package keeps a record of temporary installation path

install for x64

* installing *source* package 'apComplex' ...
** testing if installed package can be loaded
* MD5 sums
packaged installation of 'apComplex' as apComplex_2.58.0.zip
* DONE (apComplex)
* installing to library 'C:/Users/biocbuild/bbs-3.13-bioc/R/library'
package 'apComplex' successfully unpacked and MD5 sums checked

Tests output


Example timings

apComplex.Rcheck/examples_i386/apComplex-Ex.timings

nameusersystemelapsed
FilteredEstimates0.060.000.06
HMSPCI0.030.030.06
Krogan000
LCjoin0.620.000.64
MBMEcHMSPCI0.000.020.01
MBMEcKrogan000
MBMEcTAP0.020.000.02
TAP0.030.000.03
apEX000
bhmaxSubgraph0.030.010.04
findComplexes0.030.000.03
gavinBP20060.120.040.16
kroganBPMat20060.280.090.37
mergeComplexes0.040.020.05
plotComplex0.120.000.22
sortComplexes0.050.000.05
yNameTAP0.010.010.03
yTAP0.020.000.01

apComplex.Rcheck/examples_x64/apComplex-Ex.timings

nameusersystemelapsed
FilteredEstimates0.050.000.05
HMSPCI0.040.010.05
Krogan000
LCjoin0.660.000.65
MBMEcHMSPCI0.000.020.02
MBMEcKrogan000
MBMEcTAP0.000.010.01
TAP0.010.020.03
apEX0.000.010.02
bhmaxSubgraph0.050.000.05
findComplexes0.030.000.03
gavinBP20060.090.030.12
kroganBPMat20060.240.070.30
mergeComplexes0.030.010.05
plotComplex0.090.020.11
sortComplexes0.040.000.03
yNameTAP0.010.000.01
yTAP000