Back to Multiple platform build/check report for BioC 3.13
[A]BCDEFGHIJKLMNOPQRSTUVWXYZ

This page was generated on 2021-08-02 15:05:04 -0400 (Mon, 02 Aug 2021).

BUILD BIN results for apComplex on tokay2

To the developers/maintainers of the apComplex package:
- Please allow up to 24 hours (and sometimes 48 hours) for your latest push to git@git.bioconductor.org:packages/apComplex.git to
reflect on this report. See How and When does the builder pull? When will my changes propagate? here for more information.
- Make sure to use the following settings in order to reproduce any error or warning you see on this page.

raw results

Package 77/2041HostnameOS / ArchINSTALLBUILDCHECKBUILD BIN
apComplex 2.58.0  (landing page)
Denise Scholtens
Snapshot Date: 2021-08-01 04:50:10 -0400 (Sun, 01 Aug 2021)
URL: https://git.bioconductor.org/packages/apComplex
Branch: RELEASE_3_13
Last Commit: 9d396a7
Last Changed Date: 2021-05-19 11:35:18 -0400 (Wed, 19 May 2021)
nebbiolo1Linux (Ubuntu 20.04.2 LTS) / x86_64  OK    OK    OK  UNNEEDED, same version is already published
tokay2Windows Server 2012 R2 Standard / x64  OK    OK    OK    OK  UNNEEDED, same version is already published
machv2macOS 10.14.6 Mojave / x86_64  OK    OK    OK    OK  UNNEEDED, same version is already published

Summary

Package: apComplex
Version: 2.58.0
Command: rm -rf apComplex.buildbin-libdir && mkdir apComplex.buildbin-libdir && C:\Users\biocbuild\bbs-3.13-bioc\R\bin\R.exe CMD INSTALL --merge-multiarch --build --library=apComplex.buildbin-libdir apComplex_2.58.0.tar.gz
StartedAt: 2021-08-02 08:17:18 -0400 (Mon, 02 Aug 2021)
EndedAt: 2021-08-02 08:18:28 -0400 (Mon, 02 Aug 2021)
EllapsedTime: 70.0 seconds
RetCode: 0
Status:   OK  
PackageFile: apComplex_2.58.0.zip
PackageFileSize: 763.4 KiB

Command output

##############################################################################
##############################################################################
###
### Running command:
###
###   rm -rf apComplex.buildbin-libdir && mkdir apComplex.buildbin-libdir && C:\Users\biocbuild\bbs-3.13-bioc\R\bin\R.exe CMD INSTALL --merge-multiarch --build --library=apComplex.buildbin-libdir apComplex_2.58.0.tar.gz
###
##############################################################################
##############################################################################



install for i386

* installing *source* package 'apComplex' ...
** using staged installation
** R
** data
** inst
** byte-compile and prepare package for lazy loading
** help
*** installing help indices
  converting help for package 'apComplex'
    finding HTML links ... done
    FilteredEstimates                       html  
    HMSPCI                                  html  
    Krogan                                  html  
    LCjoin                                  html  
    MBMEcHMSPCI                             html  
    MBMEcKrogan                             html  
    MBMEcTAP                                html  
    TAP                                     html  
    apEX                                    html  
    bhmaxSubgraph                           html  
    findComplexes                           html  
    gavinBP2006                             html  
    kroganBPMat2006                         html  
    mergeComplexes                          html  
    plotComplex                             html  
    sortComplexes                           html  
    yNameTAP                                html  
    yTAP                                    html  
** building package indices
** installing vignettes
** testing if installed package can be loaded from temporary location
** testing if installed package can be loaded from final location
** testing if installed package keeps a record of temporary installation path

install for x64

* installing *source* package 'apComplex' ...
** testing if installed package can be loaded
* MD5 sums
packaged installation of 'apComplex' as apComplex_2.58.0.zip
* DONE (apComplex)