Back to Multiple platform build/check report for BioC 3.13
[A]BCDEFGHIJKLMNOPQRSTUVWXYZ

This page was generated on 2021-07-23 15:05:56 -0400 (Fri, 23 Jul 2021).

BUILD BIN results for anota2seq on tokay2

To the developers/maintainers of the anota2seq package:
- Please allow up to 24 hours (and sometimes 48 hours) for your latest push to git@git.bioconductor.org:packages/anota2seq.git to
reflect on this report. See How and When does the builder pull? When will my changes propagate? here for more information.
- Make sure to use the following settings in order to reproduce any error or warning you see on this page.

raw results

Package 71/2041HostnameOS / ArchINSTALLBUILDCHECKBUILD BIN
anota2seq 1.14.0  (landing page)
Christian Oertlin , Julie Lorent
Snapshot Date: 2021-07-22 04:50:13 -0400 (Thu, 22 Jul 2021)
URL: https://git.bioconductor.org/packages/anota2seq
Branch: RELEASE_3_13
Last Commit: d5aad21
Last Changed Date: 2021-05-19 12:31:00 -0400 (Wed, 19 May 2021)
nebbiolo1Linux (Ubuntu 20.04.2 LTS) / x86_64  OK    OK    OK  UNNEEDED, same version is already published
tokay2Windows Server 2012 R2 Standard / x64  OK    OK    OK    OK  UNNEEDED, same version is already published
machv2macOS 10.14.6 Mojave / x86_64  OK    OK    OK    OK  UNNEEDED, same version is already published

Summary

Package: anota2seq
Version: 1.14.0
Command: rm -rf anota2seq.buildbin-libdir && mkdir anota2seq.buildbin-libdir && C:\Users\biocbuild\bbs-3.13-bioc\R\bin\R.exe CMD INSTALL --merge-multiarch --build --library=anota2seq.buildbin-libdir anota2seq_1.14.0.tar.gz
StartedAt: 2021-07-23 08:23:26 -0400 (Fri, 23 Jul 2021)
EndedAt: 2021-07-23 08:24:38 -0400 (Fri, 23 Jul 2021)
EllapsedTime: 72.3 seconds
RetCode: 0
Status:   OK  
PackageFile: anota2seq_1.14.0.zip
PackageFileSize: 1.642 MiB

Command output

##############################################################################
##############################################################################
###
### Running command:
###
###   rm -rf anota2seq.buildbin-libdir && mkdir anota2seq.buildbin-libdir && C:\Users\biocbuild\bbs-3.13-bioc\R\bin\R.exe CMD INSTALL --merge-multiarch --build --library=anota2seq.buildbin-libdir anota2seq_1.14.0.tar.gz
###
##############################################################################
##############################################################################



install for i386

* installing *source* package 'anota2seq' ...
** using staged installation
** R
** data
*** moving datasets to lazyload DB
** inst
** byte-compile and prepare package for lazy loading
** help
*** installing help indices
  converting help for package 'anota2seq'
    finding HTML links ... done
    Anota2seqDataSet-class                  html  
    anota2seq-plots                         html  
    anota2seqAnalyze                        html  
    anota2seqDataSetFromMatrix              html  
    anota2seqGetContrasts                   html  
    anota2seqGetCovariates                  html  
    anota2seqGetDeltaData                   html  
    anota2seqGetNormalizedData              html  
    anota2seqGetOutput                      html  
    anota2seqGetQualityControl              html  
    anota2seqGetResidOutlierTest            html  
    anota2seqGetThresholds                  html  
    anota2seqPerformQC                      html  
    anota2seqRegModes                       html  
    anota2seqResidOutlierTest               html  
    anota2seqRun                            html  
    anota2seqSelSigGenes                    html  
    anota2seq_data                          html  
    show-Anota2seqDataSet-method            html  
** building package indices
** installing vignettes
** testing if installed package can be loaded from temporary location
** testing if installed package can be loaded from final location
** testing if installed package keeps a record of temporary installation path

install for x64

* installing *source* package 'anota2seq' ...
** testing if installed package can be loaded
* MD5 sums
packaged installation of 'anota2seq' as anota2seq_1.14.0.zip
* DONE (anota2seq)