Back to Multiple platform build/check report for BioC 3.13
[A]BCDEFGHIJKLMNOPQRSTUVWXYZ

This page was generated on 2021-07-30 15:06:16 -0400 (Fri, 30 Jul 2021).

BUILD BIN results for anota2seq on machv2

To the developers/maintainers of the anota2seq package:
- Please allow up to 24 hours (and sometimes 48 hours) for your latest push to git@git.bioconductor.org:packages/anota2seq.git to
reflect on this report. See How and When does the builder pull? When will my changes propagate? here for more information.
- Make sure to use the following settings in order to reproduce any error or warning you see on this page.

raw results

Package 71/2041HostnameOS / ArchINSTALLBUILDCHECKBUILD BIN
anota2seq 1.14.0  (landing page)
Christian Oertlin , Julie Lorent
Snapshot Date: 2021-07-29 04:50:02 -0400 (Thu, 29 Jul 2021)
URL: https://git.bioconductor.org/packages/anota2seq
Branch: RELEASE_3_13
Last Commit: d5aad21
Last Changed Date: 2021-05-19 12:31:00 -0400 (Wed, 19 May 2021)
nebbiolo1Linux (Ubuntu 20.04.2 LTS) / x86_64  OK    OK    OK  UNNEEDED, same version is already published
tokay2Windows Server 2012 R2 Standard / x64  OK    OK    OK    OK  UNNEEDED, same version is already published
machv2macOS 10.14.6 Mojave / x86_64  OK    OK    OK    OK  UNNEEDED, same version is already published

Summary

Package: anota2seq
Version: 1.14.0
Command: rm -rf anota2seq.buildbin-libdir && mkdir anota2seq.buildbin-libdir && /Users/biocbuild/BBS/utils/build-universal.sh anota2seq_1.14.0.tar.gz /Library/Frameworks/R.framework/Versions/Current/Resources/bin/R anota2seq.buildbin-libdir
StartedAt: 2021-07-30 01:15:33 -0400 (Fri, 30 Jul 2021)
EndedAt: 2021-07-30 01:16:27 -0400 (Fri, 30 Jul 2021)
EllapsedTime: 54.9 seconds
RetCode: 0
Status:   OK  
PackageFile: anota2seq_1.14.0.tgz
PackageFileSize: 1.567 MiB

Command output

##############################################################################
##############################################################################
###
### Running command:
###
###   rm -rf anota2seq.buildbin-libdir && mkdir anota2seq.buildbin-libdir && /Users/biocbuild/BBS/utils/build-universal.sh anota2seq_1.14.0.tar.gz /Library/Frameworks/R.framework/Versions/Current/Resources/bin/R anota2seq.buildbin-libdir
###
##############################################################################
##############################################################################


>>>>>>> 
>>>>>>> INSTALLATION WITH 'R CMD INSTALL --preclean --no-multiarch --library=anota2seq.buildbin-libdir anota2seq_1.14.0.tar.gz'
>>>>>>> 

* installing *source* package ‘anota2seq’ ...
** using staged installation
** R
** data
*** moving datasets to lazyload DB
** inst
** byte-compile and prepare package for lazy loading
** help
*** installing help indices
** building package indices
** installing vignettes
** testing if installed package can be loaded from temporary location
** testing if installed package can be loaded from final location
** testing if installed package keeps a record of temporary installation path
* DONE (anota2seq)