Back to Multiple platform build/check report for BioC 3.13
[A]BCDEFGHIJKLMNOPQRSTUVWXYZ

This page was generated on 2021-09-13 15:05:54 -0400 (Mon, 13 Sep 2021).

BUILD results for annotatr on nebbiolo1

To the developers/maintainers of the annotatr package:
- Please allow up to 24 hours (and sometimes 48 hours) for your latest push to git@git.bioconductor.org:packages/annotatr.git to
reflect on this report. See How and When does the builder pull? When will my changes propagate? here for more information.
- Make sure to use the following settings in order to reproduce any error or warning you see on this page.

raw results

Package 69/2041HostnameOS / ArchINSTALLBUILDCHECKBUILD BIN
annotatr 1.18.1  (landing page)
Raymond G. Cavalcante
Snapshot Date: 2021-09-12 04:50:10 -0400 (Sun, 12 Sep 2021)
git_url: https://git.bioconductor.org/packages/annotatr
git_branch: RELEASE_3_13
git_last_commit: 0066d80
git_last_commit_date: 2021-07-12 10:41:46 -0400 (Mon, 12 Jul 2021)
nebbiolo1Linux (Ubuntu 20.04.2 LTS) / x86_64  OK    OK    WARNINGS  UNNEEDED, same version is already published
tokay2Windows Server 2012 R2 Standard / x64  OK    OK    WARNINGS    OK  UNNEEDED, same version is already published
machv2macOS 10.14.6 Mojave / x86_64  OK    OK    WARNINGS    OK  UNNEEDED, same version is already published

Summary

Package: annotatr
Version: 1.18.1
Command: /home/biocbuild/bbs-3.13-bioc/R/bin/R CMD build --keep-empty-dirs --no-resave-data annotatr
StartedAt: 2021-09-12 06:40:45 -0400 (Sun, 12 Sep 2021)
EndedAt: 2021-09-12 06:42:25 -0400 (Sun, 12 Sep 2021)
EllapsedTime: 99.9 seconds
RetCode: 0
Status:   OK  
PackageFile: annotatr_1.18.1.tar.gz
PackageFileSize: 2.33 MiB

Command output

##############################################################################
##############################################################################
###
### Running command:
###
###   /home/biocbuild/bbs-3.13-bioc/R/bin/R CMD build --keep-empty-dirs --no-resave-data annotatr
###
##############################################################################
##############################################################################


* checking for file ‘annotatr/DESCRIPTION’ ... OK
* preparing ‘annotatr’:
* checking DESCRIPTION meta-information ... OK
* installing the package to build vignettes
* creating vignettes ... OK
* checking for LF line-endings in source and make files and shell scripts
* checking for empty or unneeded directories
* building ‘annotatr_1.18.1.tar.gz’