Back to Multiple platform build/check report for BioC 3.13
[A]BCDEFGHIJKLMNOPQRSTUVWXYZ

This page was generated on 2021-10-13 15:05:16 -0400 (Wed, 13 Oct 2021).

BUILD results for animalcules on tokay2

To the developers/maintainers of the animalcules package:
- Please allow up to 24 hours (and sometimes 48 hours) for your latest push to git@git.bioconductor.org:packages/animalcules.git to
reflect on this report. See How and When does the builder pull? When will my changes propagate? here for more information.
- Make sure to use the following settings in order to reproduce any error or warning you see on this page.

raw results

Package 58/2041HostnameOS / ArchINSTALLBUILDCHECKBUILD BIN
animalcules 1.8.1  (landing page)
Yue Zhao
Snapshot Date: 2021-10-12 04:50:13 -0400 (Tue, 12 Oct 2021)
git_url: https://git.bioconductor.org/packages/animalcules
git_branch: RELEASE_3_13
git_last_commit: 5a3dc66
git_last_commit_date: 2021-06-02 12:17:59 -0400 (Wed, 02 Jun 2021)
nebbiolo1Linux (Ubuntu 20.04.2 LTS) / x86_64  OK    OK    OK  UNNEEDED, same version is already published
tokay2Windows Server 2012 R2 Standard / x64  OK    OK    OK    OK  UNNEEDED, same version is already published
machv2macOS 10.14.6 Mojave / x86_64  OK    OK    OK    OK  UNNEEDED, same version is already published

Summary

Package: animalcules
Version: 1.8.1
Command: chmod a+r animalcules -R && C:\Users\biocbuild\bbs-3.13-bioc\R\bin\R.exe CMD build --keep-empty-dirs --no-resave-data animalcules
StartedAt: 2021-10-12 11:25:53 -0400 (Tue, 12 Oct 2021)
EndedAt: 2021-10-12 11:28:08 -0400 (Tue, 12 Oct 2021)
EllapsedTime: 134.2 seconds
RetCode: 0
Status:   OK  
PackageFile: animalcules_1.8.1.tar.gz
PackageFileSize: 3.154 MiB

Command output

##############################################################################
##############################################################################
###
### Running command:
###
###   chmod a+r animalcules -R && C:\Users\biocbuild\bbs-3.13-bioc\R\bin\R.exe CMD build --keep-empty-dirs --no-resave-data animalcules
###
##############################################################################
##############################################################################


* checking for file 'animalcules/DESCRIPTION' ... OK
* preparing 'animalcules':
* checking DESCRIPTION meta-information ... OK
* installing the package to build vignettes
* creating vignettes ... OK
* checking for LF line-endings in source and make files and shell scripts
* checking for empty or unneeded directories
Omitted 'LazyData' from DESCRIPTION
* building 'animalcules_1.8.1.tar.gz'