Back to Multiple platform build/check report for BioC 3.13
[A]BCDEFGHIJKLMNOPQRSTUVWXYZ

This page was generated on 2021-09-22 15:05:08 -0400 (Wed, 22 Sep 2021).

BUILD BIN results for animalcules on tokay2

To the developers/maintainers of the animalcules package:
- Please allow up to 24 hours (and sometimes 48 hours) for your latest push to git@git.bioconductor.org:packages/animalcules.git to
reflect on this report. See How and When does the builder pull? When will my changes propagate? here for more information.
- Make sure to use the following settings in order to reproduce any error or warning you see on this page.

raw results

Package 58/2041HostnameOS / ArchINSTALLBUILDCHECKBUILD BIN
animalcules 1.8.1  (landing page)
Yue Zhao
Snapshot Date: 2021-09-21 04:50:12 -0400 (Tue, 21 Sep 2021)
git_url: https://git.bioconductor.org/packages/animalcules
git_branch: RELEASE_3_13
git_last_commit: 5a3dc66
git_last_commit_date: 2021-06-02 12:17:59 -0400 (Wed, 02 Jun 2021)
nebbiolo1Linux (Ubuntu 20.04.2 LTS) / x86_64  OK    OK    OK  UNNEEDED, same version is already published
tokay2Windows Server 2012 R2 Standard / x64  OK    OK    OK    OK  UNNEEDED, same version is already published
machv2macOS 10.14.6 Mojave / x86_64  OK    OK    OK    OK  UNNEEDED, same version is already published

Summary

Package: animalcules
Version: 1.8.1
Command: rm -rf animalcules.buildbin-libdir && mkdir animalcules.buildbin-libdir && C:\Users\biocbuild\bbs-3.13-bioc\R\bin\R.exe CMD INSTALL --merge-multiarch --build --library=animalcules.buildbin-libdir animalcules_1.8.1.tar.gz
StartedAt: 2021-09-22 07:40:07 -0400 (Wed, 22 Sep 2021)
EndedAt: 2021-09-22 07:41:32 -0400 (Wed, 22 Sep 2021)
EllapsedTime: 84.4 seconds
RetCode: 0
Status:   OK  
PackageFile: animalcules_1.8.1.zip
PackageFileSize: 3.329 MiB

Command output

##############################################################################
##############################################################################
###
### Running command:
###
###   rm -rf animalcules.buildbin-libdir && mkdir animalcules.buildbin-libdir && C:\Users\biocbuild\bbs-3.13-bioc\R\bin\R.exe CMD INSTALL --merge-multiarch --build --library=animalcules.buildbin-libdir animalcules_1.8.1.tar.gz
###
##############################################################################
##############################################################################



install for i386

* installing *source* package 'animalcules' ...
** using staged installation
** R
** inst
** byte-compile and prepare package for lazy loading
** help
*** installing help indices
  converting help for package 'animalcules'
    finding HTML links ... done
    alpha_div_boxplot                       html  
    alpha_div_test                          html  
    animalcules-package                     html  
    counts_to_logcpm                        html  
    counts_to_relabu                        html  
    df_char_to_factor                       html  
    differential_abundance                  html  
    dimred_pca                              html  
    dimred_pcoa                             html  
    dimred_tsne                             html  
    dimred_umap                             html  
    diversities                             html  
    diversities_help                        html  
    diversity_beta_boxplot                  html  
    diversity_beta_heatmap                  html  
    diversity_beta_test                     html  
    do_alpha_div_test                       html  
    filter_categorize                       html  
    filter_summary_bar_density              html  
    filter_summary_pie_box                  html  
    find_biomarker                          html  
    find_taxon_mat                          html  
    find_taxonomy                           html  
    find_taxonomy_300                       html  
    gini_simpson                            html  
    grep_tid                                html  
    inverse_simpson                         html  
    is_categorical                          html  
    is_integer0                             html  
    is_integer1                             html  
    mae_pick_organisms                      html  
    mae_pick_samples                        html  
    pct2str                                 html  
    percent                                 html  
    read_pathoscope_data                    html  
    relabu_barplot                          html  
    relabu_boxplot                          html  
    relabu_heatmap                          html  
    run_animalcules                         html  
    shannon                                 html  
    simpson_index                           html  
    upsample_counts                         html  
    write_to_biom                           html  
** building package indices
** installing vignettes
** testing if installed package can be loaded from temporary location
** testing if installed package can be loaded from final location
** testing if installed package keeps a record of temporary installation path

install for x64

* installing *source* package 'animalcules' ...
** testing if installed package can be loaded
* MD5 sums
packaged installation of 'animalcules' as animalcules_1.8.1.zip
* DONE (animalcules)