Back to Multiple platform build/check report for BioC 3.13
[A]BCDEFGHIJKLMNOPQRSTUVWXYZ

This page was generated on 2021-09-24 15:06:02 -0400 (Fri, 24 Sep 2021).

BUILD results for amplican on tokay2

To the developers/maintainers of the amplican package:
- Please allow up to 24 hours (and sometimes 48 hours) for your latest push to git@git.bioconductor.org:packages/amplican.git to
reflect on this report. See How and When does the builder pull? When will my changes propagate? here for more information.
- Make sure to use the following settings in order to reproduce any error or warning you see on this page.

raw results

Package 53/2041HostnameOS / ArchINSTALLBUILDCHECKBUILD BIN
amplican 1.14.0  (landing page)
Eivind Valen
Snapshot Date: 2021-09-23 04:50:12 -0400 (Thu, 23 Sep 2021)
git_url: https://git.bioconductor.org/packages/amplican
git_branch: RELEASE_3_13
git_last_commit: e994104
git_last_commit_date: 2021-05-19 12:30:12 -0400 (Wed, 19 May 2021)
nebbiolo1Linux (Ubuntu 20.04.2 LTS) / x86_64  OK    OK    OK  UNNEEDED, same version is already published
tokay2Windows Server 2012 R2 Standard / x64  OK    OK    OK    OK  UNNEEDED, same version is already published
machv2macOS 10.14.6 Mojave / x86_64  OK    OK    OK    OK  UNNEEDED, same version is already published

Summary

Package: amplican
Version: 1.14.0
Command: chmod a+r amplican -R && C:\Users\biocbuild\bbs-3.13-bioc\R\bin\R.exe CMD build --keep-empty-dirs --no-resave-data amplican
StartedAt: 2021-09-23 11:12:36 -0400 (Thu, 23 Sep 2021)
EndedAt: 2021-09-23 11:15:54 -0400 (Thu, 23 Sep 2021)
EllapsedTime: 197.8 seconds
RetCode: 0
Status:   OK  
PackageFile: amplican_1.14.0.tar.gz
PackageFileSize: 6.569 MiB

Command output

##############################################################################
##############################################################################
###
### Running command:
###
###   chmod a+r amplican -R && C:\Users\biocbuild\bbs-3.13-bioc\R\bin\R.exe CMD build --keep-empty-dirs --no-resave-data amplican
###
##############################################################################
##############################################################################


* checking for file 'amplican/DESCRIPTION' ... OK
* preparing 'amplican':
* checking DESCRIPTION meta-information ... OK
* cleaning src
* installing the package to build vignettes
* creating vignettes ... OK
* cleaning src
* checking for LF line-endings in source and make files and shell scripts
* checking for empty or unneeded directories
Omitted 'LazyData' from DESCRIPTION
* building 'amplican_1.14.0.tar.gz'