Back to Multiple platform build/check report for BioC 3.13
[A]BCDEFGHIJKLMNOPQRSTUVWXYZ

This page was generated on 2021-09-24 15:05:39 -0400 (Fri, 24 Sep 2021).

CHECK results for amplican on nebbiolo1

To the developers/maintainers of the amplican package:
- Please allow up to 24 hours (and sometimes 48 hours) for your latest push to git@git.bioconductor.org:packages/amplican.git to
reflect on this report. See How and When does the builder pull? When will my changes propagate? here for more information.
- Make sure to use the following settings in order to reproduce any error or warning you see on this page.

raw results

Package 53/2041HostnameOS / ArchINSTALLBUILDCHECKBUILD BIN
amplican 1.14.0  (landing page)
Eivind Valen
Snapshot Date: 2021-09-23 04:50:12 -0400 (Thu, 23 Sep 2021)
git_url: https://git.bioconductor.org/packages/amplican
git_branch: RELEASE_3_13
git_last_commit: e994104
git_last_commit_date: 2021-05-19 12:30:12 -0400 (Wed, 19 May 2021)
nebbiolo1Linux (Ubuntu 20.04.2 LTS) / x86_64  OK    OK    OK  UNNEEDED, same version is already published
tokay2Windows Server 2012 R2 Standard / x64  OK    OK    OK    OK  UNNEEDED, same version is already published
machv2macOS 10.14.6 Mojave / x86_64  OK    OK    OK    OK  UNNEEDED, same version is already published

Summary

Package: amplican
Version: 1.14.0
Command: /home/biocbuild/bbs-3.13-bioc/R/bin/R CMD check --install=check:amplican.install-out.txt --library=/home/biocbuild/bbs-3.13-bioc/R/library --no-vignettes --timings amplican_1.14.0.tar.gz
StartedAt: 2021-09-23 08:48:58 -0400 (Thu, 23 Sep 2021)
EndedAt: 2021-09-23 08:51:19 -0400 (Thu, 23 Sep 2021)
EllapsedTime: 140.7 seconds
RetCode: 0
Status:   OK  
CheckDir: amplican.Rcheck
Warnings: 0

Command output

##############################################################################
##############################################################################
###
### Running command:
###
###   /home/biocbuild/bbs-3.13-bioc/R/bin/R CMD check --install=check:amplican.install-out.txt --library=/home/biocbuild/bbs-3.13-bioc/R/library --no-vignettes --timings amplican_1.14.0.tar.gz
###
##############################################################################
##############################################################################


* using log directory ‘/home/biocbuild/bbs-3.13-bioc/meat/amplican.Rcheck’
* using R version 4.1.1 (2021-08-10)
* using platform: x86_64-pc-linux-gnu (64-bit)
* using session charset: UTF-8
* using option ‘--no-vignettes’
* checking for file ‘amplican/DESCRIPTION’ ... OK
* checking extension type ... Package
* this is package ‘amplican’ version ‘1.14.0’
* package encoding: UTF-8
* checking package namespace information ... OK
* checking package dependencies ... OK
* checking if this is a source package ... OK
* checking if there is a namespace ... OK
* checking for hidden files and directories ... OK
* checking for portable file names ... OK
* checking for sufficient/correct file permissions ... OK
* checking whether package ‘amplican’ can be installed ... OK
* checking installed package size ... OK
* checking package directory ... OK
* checking ‘build’ directory ... OK
* checking DESCRIPTION meta-information ... OK
* checking top-level files ... OK
* checking for left-over files ... OK
* checking index information ... OK
* checking package subdirectories ... OK
* checking R files for non-ASCII characters ... OK
* checking R files for syntax errors ... OK
* checking whether the package can be loaded ... OK
* checking whether the package can be loaded with stated dependencies ... OK
* checking whether the package can be unloaded cleanly ... OK
* checking whether the namespace can be loaded with stated dependencies ... OK
* checking whether the namespace can be unloaded cleanly ... OK
* checking dependencies in R code ... OK
* checking S3 generic/method consistency ... OK
* checking replacement functions ... OK
* checking foreign function calls ... OK
* checking R code for possible problems ... OK
* checking Rd files ... OK
* checking Rd metadata ... OK
* checking Rd cross-references ... OK
* checking for missing documentation entries ... OK
* checking for code/documentation mismatches ... OK
* checking Rd \usage sections ... OK
* checking Rd contents ... OK
* checking for unstated dependencies in examples ... OK
* checking line endings in C/C++/Fortran sources/headers ... OK
* checking compiled code ... NOTE
Note: information on .o files is not available
* checking files in ‘vignettes’ ... OK
* checking examples ... OK
Examples with CPU (user + system) or elapsed time > 5s
               user system elapsed
amplicanAlign 6.733  0.236   6.971
* checking for unstated dependencies in ‘tests’ ... OK
* checking tests ...
  Running ‘testthat.R’
 OK
* checking for unstated dependencies in vignettes ... OK
* checking package vignettes in ‘inst/doc’ ... OK
* checking running R code from vignettes ... SKIPPED
* checking re-building of vignette outputs ... SKIPPED
* checking PDF version of manual ... OK
* DONE

Status: 1 NOTE
See
  ‘/home/biocbuild/bbs-3.13-bioc/meat/amplican.Rcheck/00check.log’
for details.



Installation output

amplican.Rcheck/00install.out

##############################################################################
##############################################################################
###
### Running command:
###
###   /home/biocbuild/bbs-3.13-bioc/R/bin/R CMD INSTALL amplican
###
##############################################################################
##############################################################################


* installing to library ‘/home/biocbuild/bbs-3.13-bioc/R/library’
* installing *source* package ‘amplican’ ...
** using staged installation
** libs
g++ -std=gnu++14 -I"/home/biocbuild/bbs-3.13-bioc/R/include" -DNDEBUG  -I'/home/biocbuild/bbs-3.13-bioc/R/library/Rcpp/include' -I/usr/local/include   -fpic  -g -O2  -Wall -c RcppExports.cpp -o RcppExports.o
g++ -std=gnu++14 -I"/home/biocbuild/bbs-3.13-bioc/R/include" -DNDEBUG  -I'/home/biocbuild/bbs-3.13-bioc/R/library/Rcpp/include' -I/usr/local/include   -fpic  -g -O2  -Wall -c bezier.cpp -o bezier.o
g++ -std=gnu++14 -shared -L/home/biocbuild/bbs-3.13-bioc/R/lib -L/usr/local/lib -o amplican.so RcppExports.o bezier.o -L/home/biocbuild/bbs-3.13-bioc/R/lib -lR
installing to /home/biocbuild/bbs-3.13-bioc/R/library/00LOCK-amplican/00new/amplican/libs
** R
** inst
** byte-compile and prepare package for lazy loading
** help
*** installing help indices
** building package indices
** installing vignettes
** testing if installed package can be loaded from temporary location
** checking absolute paths in shared objects and dynamic libraries
** testing if installed package can be loaded from final location
** testing if installed package keeps a record of temporary installation path
* DONE (amplican)

Tests output

amplican.Rcheck/tests/testthat.Rout


R version 4.1.1 (2021-08-10) -- "Kick Things"
Copyright (C) 2021 The R Foundation for Statistical Computing
Platform: x86_64-pc-linux-gnu (64-bit)

R is free software and comes with ABSOLUTELY NO WARRANTY.
You are welcome to redistribute it under certain conditions.
Type 'license()' or 'licence()' for distribution details.

R is a collaborative project with many contributors.
Type 'contributors()' for more information and
'citation()' on how to cite R or R packages in publications.

Type 'demo()' for some demos, 'help()' for on-line help, or
'help.start()' for an HTML browser interface to help.
Type 'q()' to quit R.

> library(testthat)
> library(amplican)
Loading required package: BiocGenerics
Loading required package: parallel

Attaching package: 'BiocGenerics'

The following objects are masked from 'package:parallel':

    clusterApply, clusterApplyLB, clusterCall, clusterEvalQ,
    clusterExport, clusterMap, parApply, parCapply, parLapply,
    parLapplyLB, parRapply, parSapply, parSapplyLB

The following objects are masked from 'package:stats':

    IQR, mad, sd, var, xtabs

The following objects are masked from 'package:base':

    Filter, Find, Map, Position, Reduce, anyDuplicated, append,
    as.data.frame, basename, cbind, colnames, dirname, do.call,
    duplicated, eval, evalq, get, grep, grepl, intersect, is.unsorted,
    lapply, mapply, match, mget, order, paste, pmax, pmax.int, pmin,
    pmin.int, rank, rbind, rownames, sapply, setdiff, sort, table,
    tapply, union, unique, unsplit, which.max, which.min

Loading required package: Biostrings
Loading required package: S4Vectors
Loading required package: stats4

Attaching package: 'S4Vectors'

The following objects are masked from 'package:base':

    I, expand.grid, unname

Loading required package: IRanges
Loading required package: XVector
Loading required package: GenomeInfoDb

Attaching package: 'Biostrings'

The following object is masked from 'package:base':

    strsplit

Loading required package: data.table

Attaching package: 'data.table'

The following object is masked from 'package:IRanges':

    shift

The following objects are masked from 'package:S4Vectors':

    first, second

Pease consider supporting this software by citing:

Labun et al. 2019
Accurate analysis of genuine CRISPR editing events with ampliCan.
Genome Res. 2019 Mar 8
doi: 10.1101/gr.244293.118

Without appreciation scientific software is usually abandoned and eventually deprecated, but you can easily support authors by citations.
> 
> test_check("amplican")
[ FAIL 0 | WARN 4 | SKIP 0 | PASS 56 ]
> 
> proc.time()
   user  system elapsed 
 23.662   1.267  24.886 

Example timings

amplican.Rcheck/amplican-Ex.timings

nameusersystemelapsed
AlignmentsExperimentSet-class0.9450.0320.977
amplicanAlign6.7330.2366.971
amplicanConsensus0.0770.0000.077
amplicanFilter0.0310.0040.035
amplicanMap0.3390.0040.343
amplicanNormalize0.0500.0000.036
amplicanOverlap0.0260.0000.025
amplicanPipeline4.5790.1364.697
amplicanReport0.0110.0030.014
amplicanSummarize0.0220.0000.015
amplican_print_reads0.2590.0160.270
assignedCount0.0370.0000.037
barcodeData-set0.0210.0000.021
barcodeData0.0200.0020.022
comb_along0.0120.0090.020
experimentData-set0.0220.0000.021
experimentData0.0170.0070.025
extractEvents2.8420.0842.926
findEOP0.0040.0000.004
findLQR0.0040.0000.004
findPD0.0030.0000.003
fwdReads-set0.0210.0000.020
fwdReads0.3730.0000.373
fwdReadsType-set0.020.000.02
fwdReadsType0.0160.0040.020
geom_bezier0.2430.0040.247
lookupAlignment0.2450.0000.245
metaplot_deletions0.1540.0080.162
metaplot_insertions0.2140.0040.212
metaplot_mismatches0.2200.0040.218
plot_cuts0.2100.0040.209
plot_deletions0.1540.0040.157
plot_height0.0000.0000.001
plot_heterogeneity0.2720.0040.267
plot_insertions0.3330.0160.342
plot_mismatches0.3420.0200.355
plot_variants0.6030.0120.605
readCounts-set0.0230.0040.027
readCounts0.0210.0000.021
rveReads-set0.0210.0000.021
rveReads0.3630.0200.383
rveReadsType-set0.0210.0040.024
rveReadsType0.0360.0000.036
unassignedCount0.0360.0000.036
unassignedData-set0.0360.0000.036
unassignedData0.0340.0020.036
writeAlignments0.0360.0000.036