Back to Multiple platform build/check report for BioC 3.13
[A]BCDEFGHIJKLMNOPQRSTUVWXYZ

This page was generated on 2021-09-22 15:05:08 -0400 (Wed, 22 Sep 2021).

INSTALL results for altcdfenvs on tokay2

To the developers/maintainers of the altcdfenvs package:
- Please allow up to 24 hours (and sometimes 48 hours) for your latest push to git@git.bioconductor.org:packages/altcdfenvs.git to
reflect on this report. See How and When does the builder pull? When will my changes propagate? here for more information.
- Make sure to use the following settings in order to reproduce any error or warning you see on this page.

raw results

Package 50/2041HostnameOS / ArchINSTALLBUILDCHECKBUILD BIN
altcdfenvs 2.54.0  (landing page)
Laurent Gautier
Snapshot Date: 2021-09-21 04:50:12 -0400 (Tue, 21 Sep 2021)
git_url: https://git.bioconductor.org/packages/altcdfenvs
git_branch: RELEASE_3_13
git_last_commit: fbe5728
git_last_commit_date: 2021-05-19 11:34:10 -0400 (Wed, 19 May 2021)
nebbiolo1Linux (Ubuntu 20.04.2 LTS) / x86_64  OK    OK    OK  UNNEEDED, same version is already published
tokay2Windows Server 2012 R2 Standard / x64  OK    OK    OK    OK  UNNEEDED, same version is already published
machv2macOS 10.14.6 Mojave / x86_64  OK    OK    OK    OK  UNNEEDED, same version is already published

Summary

Package: altcdfenvs
Version: 2.54.0
Command: C:\cygwin\bin\curl.exe -O http://155.52.207.165/BBS/3.13/bioc/src/contrib/altcdfenvs_2.54.0.tar.gz && rm -rf altcdfenvs.buildbin-libdir && mkdir altcdfenvs.buildbin-libdir && C:\Users\biocbuild\bbs-3.13-bioc\R\bin\R.exe CMD INSTALL --merge-multiarch --build --library=altcdfenvs.buildbin-libdir altcdfenvs_2.54.0.tar.gz && C:\Users\biocbuild\bbs-3.13-bioc\R\bin\R.exe CMD INSTALL altcdfenvs_2.54.0.zip && rm altcdfenvs_2.54.0.tar.gz altcdfenvs_2.54.0.zip
StartedAt: 2021-09-21 07:45:00 -0400 (Tue, 21 Sep 2021)
EndedAt: 2021-09-21 07:45:56 -0400 (Tue, 21 Sep 2021)
EllapsedTime: 56.3 seconds
RetCode: 0
Status:   OK  

Command output

##############################################################################
##############################################################################
###
### Running command:
###
###   C:\cygwin\bin\curl.exe -O http://155.52.207.165/BBS/3.13/bioc/src/contrib/altcdfenvs_2.54.0.tar.gz && rm -rf altcdfenvs.buildbin-libdir && mkdir altcdfenvs.buildbin-libdir && C:\Users\biocbuild\bbs-3.13-bioc\R\bin\R.exe CMD INSTALL --merge-multiarch --build --library=altcdfenvs.buildbin-libdir altcdfenvs_2.54.0.tar.gz && C:\Users\biocbuild\bbs-3.13-bioc\R\bin\R.exe CMD INSTALL altcdfenvs_2.54.0.zip && rm altcdfenvs_2.54.0.tar.gz altcdfenvs_2.54.0.zip
###
##############################################################################
##############################################################################


  % Total    % Received % Xferd  Average Speed   Time    Time     Time  Current
                                 Dload  Upload   Total   Spent    Left  Speed

  0     0    0     0    0     0      0      0 --:--:-- --:--:-- --:--:--     0
100 50225  100 50225    0     0   317k      0 --:--:-- --:--:-- --:--:--  318k

install for i386

* installing *source* package 'altcdfenvs' ...
** using staged installation
** R
** data
** inst
** byte-compile and prepare package for lazy loading
NOTE: arguments in definition for validity method for class 'AffyProbesMatch' changed from (obj) to (object)
in method for 'toHypergraph' with signature '"CdfEnvAffy"': no definition for class "CdfEnvAffy"
** help
*** installing help indices
  converting help for package 'altcdfenvs'
    finding HTML links ... done
    AffyProbesMatch-class                   html  
    CdfEnvAffy-class                        html  
    appendCdfEnvAffy                        html  
    buildCdfEnv.biostrings                  html  
    cdfenv                                  html  
    cdfenvEx                                html  
    copyCdfEnvAffy                          html  
    countduplicated                         html  
    geneNames                               html  
    getxy.probeseq                          html  
    index2xy                                html  
    indexProbes.CdfEnvAffy                  html  
    matchAffyProbes                         html  
    plot.CdfEnvAffy                         html  
    removeIndex                             html  
    toHypergraph                            html  
    unique.CdfEnvAffy                       html  
    utils.FASTA                             html  
    validAffyBatch                          html  
** building package indices
** installing vignettes
** testing if installed package can be loaded from temporary location
** testing if installed package can be loaded from final location
** testing if installed package keeps a record of temporary installation path

install for x64

* installing *source* package 'altcdfenvs' ...
** testing if installed package can be loaded
* MD5 sums
packaged installation of 'altcdfenvs' as altcdfenvs_2.54.0.zip
* DONE (altcdfenvs)
* installing to library 'C:/Users/biocbuild/bbs-3.13-bioc/R/library'
package 'altcdfenvs' successfully unpacked and MD5 sums checked