Back to Multiple platform build/check report for BioC 3.13
[A]BCDEFGHIJKLMNOPQRSTUVWXYZ

This page was generated on 2021-09-22 15:05:37 -0400 (Wed, 22 Sep 2021).

INSTALL results for altcdfenvs on machv2

To the developers/maintainers of the altcdfenvs package:
- Please allow up to 24 hours (and sometimes 48 hours) for your latest push to git@git.bioconductor.org:packages/altcdfenvs.git to
reflect on this report. See How and When does the builder pull? When will my changes propagate? here for more information.
- Make sure to use the following settings in order to reproduce any error or warning you see on this page.

raw results

Package 50/2041HostnameOS / ArchINSTALLBUILDCHECKBUILD BIN
altcdfenvs 2.54.0  (landing page)
Laurent Gautier
Snapshot Date: 2021-09-21 04:50:12 -0400 (Tue, 21 Sep 2021)
git_url: https://git.bioconductor.org/packages/altcdfenvs
git_branch: RELEASE_3_13
git_last_commit: fbe5728
git_last_commit_date: 2021-05-19 11:34:10 -0400 (Wed, 19 May 2021)
nebbiolo1Linux (Ubuntu 20.04.2 LTS) / x86_64  OK    OK    OK  UNNEEDED, same version is already published
tokay2Windows Server 2012 R2 Standard / x64  OK    OK    OK    OK  UNNEEDED, same version is already published
machv2macOS 10.14.6 Mojave / x86_64  OK    OK    OK    OK  UNNEEDED, same version is already published

Summary

Package: altcdfenvs
Version: 2.54.0
Command: /Library/Frameworks/R.framework/Versions/Current/Resources/bin/R CMD INSTALL altcdfenvs
StartedAt: 2021-09-21 08:35:40 -0400 (Tue, 21 Sep 2021)
EndedAt: 2021-09-21 08:36:26 -0400 (Tue, 21 Sep 2021)
EllapsedTime: 46.2 seconds
RetCode: 0
Status:   OK  

Command output

##############################################################################
##############################################################################
###
### Running command:
###
###   /Library/Frameworks/R.framework/Versions/Current/Resources/bin/R CMD INSTALL altcdfenvs
###
##############################################################################
##############################################################################


* installing to library ‘/Library/Frameworks/R.framework/Versions/4.1/Resources/library’
* installing *source* package ‘altcdfenvs’ ...
** using staged installation
** R
** data
** inst
** byte-compile and prepare package for lazy loading
NOTE: arguments in definition for validity method for class 'AffyProbesMatch' changed from (obj) to (object)
in method for ‘toHypergraph’ with signature ‘"CdfEnvAffy"’: no definition for class “CdfEnvAffy”
** help
*** installing help indices
** building package indices
** installing vignettes
** testing if installed package can be loaded from temporary location
** testing if installed package can be loaded from final location
** testing if installed package keeps a record of temporary installation path
* DONE (altcdfenvs)