Back to Multiple platform build/check report for BioC 3.13
[A]BCDEFGHIJKLMNOPQRSTUVWXYZ

This page was generated on 2021-09-24 15:06:33 -0400 (Fri, 24 Sep 2021).

CHECK results for altcdfenvs on machv2

To the developers/maintainers of the altcdfenvs package:
- Please allow up to 24 hours (and sometimes 48 hours) for your latest push to git@git.bioconductor.org:packages/altcdfenvs.git to
reflect on this report. See How and When does the builder pull? When will my changes propagate? here for more information.
- Make sure to use the following settings in order to reproduce any error or warning you see on this page.

raw results

Package 50/2041HostnameOS / ArchINSTALLBUILDCHECKBUILD BIN
altcdfenvs 2.54.0  (landing page)
Laurent Gautier
Snapshot Date: 2021-09-23 04:50:12 -0400 (Thu, 23 Sep 2021)
git_url: https://git.bioconductor.org/packages/altcdfenvs
git_branch: RELEASE_3_13
git_last_commit: fbe5728
git_last_commit_date: 2021-05-19 11:34:10 -0400 (Wed, 19 May 2021)
nebbiolo1Linux (Ubuntu 20.04.2 LTS) / x86_64  OK    OK    OK  UNNEEDED, same version is already published
tokay2Windows Server 2012 R2 Standard / x64  OK    OK    OK    OK  UNNEEDED, same version is already published
machv2macOS 10.14.6 Mojave / x86_64  OK    OK    OK    OK  UNNEEDED, same version is already published

Summary

Package: altcdfenvs
Version: 2.54.0
Command: /Library/Frameworks/R.framework/Versions/Current/Resources/bin/R CMD check --install=check:altcdfenvs.install-out.txt --library=/Library/Frameworks/R.framework/Versions/Current/Resources/library --no-vignettes --timings altcdfenvs_2.54.0.tar.gz
StartedAt: 2021-09-23 16:07:52 -0400 (Thu, 23 Sep 2021)
EndedAt: 2021-09-23 16:10:11 -0400 (Thu, 23 Sep 2021)
EllapsedTime: 139.3 seconds
RetCode: 0
Status:   OK  
CheckDir: altcdfenvs.Rcheck
Warnings: 0

Command output

##############################################################################
##############################################################################
###
### Running command:
###
###   /Library/Frameworks/R.framework/Versions/Current/Resources/bin/R CMD check --install=check:altcdfenvs.install-out.txt --library=/Library/Frameworks/R.framework/Versions/Current/Resources/library --no-vignettes --timings altcdfenvs_2.54.0.tar.gz
###
##############################################################################
##############################################################################


* using log directory ‘/Users/biocbuild/bbs-3.13-bioc/meat/altcdfenvs.Rcheck’
* using R version 4.1.1 (2021-08-10)
* using platform: x86_64-apple-darwin17.0 (64-bit)
* using session charset: UTF-8
* using option ‘--no-vignettes’
* checking for file ‘altcdfenvs/DESCRIPTION’ ... OK
* this is package ‘altcdfenvs’ version ‘2.54.0’
* checking package namespace information ... OK
* checking package dependencies ... NOTE
Depends: includes the non-default packages:
  'BiocGenerics', 'S4Vectors', 'Biobase', 'affy', 'makecdfenv',
  'Biostrings', 'hypergraph'
Adding so many packages to the search path is excessive and importing
selectively is preferable.
* checking if this is a source package ... OK
* checking if there is a namespace ... OK
* checking for hidden files and directories ... NOTE
Found the following hidden files and directories:
  .git_fetch_output.txt
  .git_merge_output.txt
These were most likely included in error. See section ‘Package
structure’ in the ‘Writing R Extensions’ manual.
* checking for portable file names ... OK
* checking for sufficient/correct file permissions ... OK
* checking whether package ‘altcdfenvs’ can be installed ... OK
* checking installed package size ... OK
* checking package directory ... OK
* checking ‘build’ directory ... OK
* checking DESCRIPTION meta-information ... NOTE
Malformed Description field: should contain one or more complete sentences.
* checking top-level files ... OK
* checking for left-over files ... OK
* checking index information ... OK
* checking package subdirectories ... OK
* checking R files for non-ASCII characters ... OK
* checking R files for syntax errors ... OK
* checking whether the package can be loaded ... OK
* checking whether the package can be loaded with stated dependencies ... OK
* checking whether the package can be unloaded cleanly ... OK
* checking whether the namespace can be loaded with stated dependencies ... OK
* checking whether the namespace can be unloaded cleanly ... OK
* checking dependencies in R code ... NOTE
Packages in Depends field not imported from:
  ‘Biobase’ ‘Biostrings’ ‘hypergraph’ ‘makecdfenv’ ‘methods’
  These packages need to be imported from (in the NAMESPACE file)
  for when this namespace is loaded but not attached.
* checking S3 generic/method consistency ... NOTE
Found the following apparent S3 methods exported but not registered:
  plot.CdfEnvAffy print.FASTA unique.CdfEnvAffy
See section ‘Registering S3 methods’ in the ‘Writing R Extensions’
manual.
* checking replacement functions ... OK
* checking foreign function calls ... OK
* checking R code for possible problems ... NOTE
buildCdfEnv.biostrings: no visible global function definition for
  ‘validObject’
buildCdfEnv.biostrings: no visible global function definition for ‘is’
buildCdfEnv.biostrings: no visible global function definition for ‘new’
buildCdfEnv.biostrings: no visible global function definition for
  ‘update’
buildCdfEnv.biostrings: no visible global function definition for
  ‘xy2indices’
buildCdfEnv.matchprobes: no visible global function definition for ‘is’
buildCdfEnv.matchprobes: no visible global function definition for
  ‘new’
buildCdfEnv.matchprobes: no visible global function definition for
  ‘update’
buildCdfEnv.matchprobes: no visible global function definition for
  ‘xy2indices’
copyCdfEnvAffy: no visible global function definition for ‘copyEnv’
countduplicated: no visible global function definition for ‘is’
countduplicated: no visible global function definition for ‘as’
geneNames.CdfEnvAffy: no visible global function definition for ‘as’
getCdfEnvAffy: no visible global function definition for ‘is’
getCdfEnvAffy: no visible global function definition for ‘getCdfInfo’
index2xy.CdfEnvAffy: no visible global function definition for
  ‘indices2xy’
indexProbes.CdfEnvAffy: no visible global function definition for ‘as’
matchAffyProbes: no visible global function definition for
  ‘DNAStringSet’
matchAffyProbes: no visible global function definition for ‘DNAString’
matchAffyProbes: no visible global function definition for ‘PDict’
matchAffyProbes: no visible global function definition for ‘matchPDict’
matchAffyProbes: no visible global function definition for ‘new’
removeIndex: no visible global function definition for ‘as’
unique.CdfEnvAffy: no visible global function definition for ‘as’
validAffyBatch: no visible global function definition for ‘is’
validCdfEnvAffy: no visible global function definition for ‘as’
wrapCdfEnvAffy: no visible global function definition for ‘new’
xy2index.CdfEnvAffy: no visible global function definition for
  ‘xy2indices’
[,CdfEnvAffy-character-missing-missing: no visible global function
  definition for ‘as’
coerce,CdfEnvAffy-Cdf: no visible global function definition for ‘new’
combine,AffyProbesMatch-AffyProbesMatch: no visible global function
  definition for ‘new’
geneNames,CdfEnvAffy: no visible global function definition for ‘as’
indexProbes,CdfEnvAffy-character: no visible global function definition
  for ‘as’
show,CdfEnvAffy: no visible global function definition for ‘as’
toHypergraph,AffyProbesMatch : <anonymous>: no visible global function
  definition for ‘Hyperedge’
toHypergraph,AffyProbesMatch: no visible global function definition for
  ‘new’
toHypergraph,CdfEnvAffy : <anonymous>: no visible global function
  definition for ‘Hyperedge’
toHypergraph,CdfEnvAffy: no visible global function definition for
  ‘new’
Undefined global functions or variables:
  DNAString DNAStringSet Hyperedge PDict as copyEnv getCdfInfo
  indices2xy is matchPDict new update validObject xy2indices
Consider adding
  importFrom("methods", "as", "is", "new", "validObject")
  importFrom("stats", "update")
to your NAMESPACE file (and ensure that your DESCRIPTION Imports field
contains 'methods').
* checking Rd files ... OK
* checking Rd metadata ... OK
* checking Rd cross-references ... OK
* checking for missing documentation entries ... OK
* checking for code/documentation mismatches ... OK
* checking Rd \usage sections ... OK
* checking Rd contents ... OK
* checking for unstated dependencies in examples ... OK
* checking contents of ‘data’ directory ... OK
* checking data for non-ASCII characters ... OK
* checking data for ASCII and uncompressed saves ... OK
* checking sizes of PDF files under ‘inst/doc’ ... OK
* checking files in ‘vignettes’ ... OK
* checking examples ... OK
Examples with CPU (user + system) or elapsed time > 5s
                 user system elapsed
removeIndex     9.836  0.074   9.915
matchAffyProbes 5.871  0.257   6.131
* checking for unstated dependencies in vignettes ... OK
* checking package vignettes in ‘inst/doc’ ... OK
* checking running R code from vignettes ... SKIPPED
* checking re-building of vignette outputs ... SKIPPED
* checking PDF version of manual ... OK
* DONE

Status: 6 NOTEs
See
  ‘/Users/biocbuild/bbs-3.13-bioc/meat/altcdfenvs.Rcheck/00check.log’
for details.



Installation output

altcdfenvs.Rcheck/00install.out

##############################################################################
##############################################################################
###
### Running command:
###
###   /Library/Frameworks/R.framework/Versions/Current/Resources/bin/R CMD INSTALL altcdfenvs
###
##############################################################################
##############################################################################


* installing to library ‘/Library/Frameworks/R.framework/Versions/4.1/Resources/library’
* installing *source* package ‘altcdfenvs’ ...
** using staged installation
** R
** data
** inst
** byte-compile and prepare package for lazy loading
NOTE: arguments in definition for validity method for class 'AffyProbesMatch' changed from (obj) to (object)
in method for ‘toHypergraph’ with signature ‘"CdfEnvAffy"’: no definition for class “CdfEnvAffy”
** help
*** installing help indices
** building package indices
** installing vignettes
** testing if installed package can be loaded from temporary location
** testing if installed package can be loaded from final location
** testing if installed package keeps a record of temporary installation path
* DONE (altcdfenvs)

Tests output


Example timings

altcdfenvs.Rcheck/altcdfenvs-Ex.timings

nameusersystemelapsed
AffyProbesMatch-class0.0010.0010.002
CdfEnvAffy-class4.6870.0984.791
appendCdfEnvAffy0.0040.0030.007
cdfenv0.0000.0010.000
cdfenvEx0.0030.0030.006
getxy.probeseq0.0000.0000.001
index2xy0.0000.0010.001
matchAffyProbes5.8710.2576.131
plot.CdfEnvAffy000
removeIndex9.8360.0749.915
unique.CdfEnvAffy0.0000.0000.001
utils.FASTA0.0070.0010.008
validAffyBatch0.0000.0010.000