Back to Multiple platform build/check report for BioC 3.13
[A]BCDEFGHIJKLMNOPQRSTUVWXYZ

This page was generated on 2021-08-02 15:05:04 -0400 (Mon, 02 Aug 2021).

CHECK results for alpine on tokay2

To the developers/maintainers of the alpine package:
- Please allow up to 24 hours (and sometimes 48 hours) for your latest push to git@git.bioconductor.org:packages/alpine.git to
reflect on this report. See How and When does the builder pull? When will my changes propagate? here for more information.
- Make sure to use the following settings in order to reproduce any error or warning you see on this page.

raw results

Package 46/2041HostnameOS / ArchINSTALLBUILDCHECKBUILD BIN
alpine 1.18.0  (landing page)
Michael Love
Snapshot Date: 2021-08-01 04:50:10 -0400 (Sun, 01 Aug 2021)
URL: https://git.bioconductor.org/packages/alpine
Branch: RELEASE_3_13
Last Commit: 06257d2
Last Changed Date: 2021-05-19 12:22:33 -0400 (Wed, 19 May 2021)
nebbiolo1Linux (Ubuntu 20.04.2 LTS) / x86_64  OK    OK    OK  UNNEEDED, same version is already published
tokay2Windows Server 2012 R2 Standard / x64  OK    OK    OK    OK  UNNEEDED, same version is already published
machv2macOS 10.14.6 Mojave / x86_64  OK    OK    OK    OK  UNNEEDED, same version is already published

Summary

Package: alpine
Version: 1.18.0
Command: C:\Users\biocbuild\bbs-3.13-bioc\R\bin\R.exe CMD check --force-multiarch --install=check:alpine.install-out.txt --library=C:\Users\biocbuild\bbs-3.13-bioc\R\library --no-vignettes --timings alpine_1.18.0.tar.gz
StartedAt: 2021-08-01 19:35:38 -0400 (Sun, 01 Aug 2021)
EndedAt: 2021-08-01 19:45:04 -0400 (Sun, 01 Aug 2021)
EllapsedTime: 566.3 seconds
RetCode: 0
Status:   OK  
CheckDir: alpine.Rcheck
Warnings: 0

Command output

##############################################################################
##############################################################################
###
### Running command:
###
###   C:\Users\biocbuild\bbs-3.13-bioc\R\bin\R.exe CMD check --force-multiarch --install=check:alpine.install-out.txt --library=C:\Users\biocbuild\bbs-3.13-bioc\R\library --no-vignettes --timings alpine_1.18.0.tar.gz
###
##############################################################################
##############################################################################


* using log directory 'C:/Users/biocbuild/bbs-3.13-bioc/meat/alpine.Rcheck'
* using R version 4.1.0 (2021-05-18)
* using platform: x86_64-w64-mingw32 (64-bit)
* using session charset: ISO8859-1
* using option '--no-vignettes'
* checking for file 'alpine/DESCRIPTION' ... OK
* this is package 'alpine' version '1.18.0'
* checking package namespace information ... OK
* checking package dependencies ... OK
* checking if this is a source package ... OK
* checking if there is a namespace ... OK
* checking for hidden files and directories ... OK
* checking for portable file names ... OK
* checking whether package 'alpine' can be installed ... OK
* checking installed package size ... OK
* checking package directory ... OK
* checking 'build' directory ... OK
* checking DESCRIPTION meta-information ... OK
* checking top-level files ... OK
* checking for left-over files ... OK
* checking index information ... OK
* checking package subdirectories ... OK
* checking R files for non-ASCII characters ... OK
* checking R files for syntax errors ... OK
* loading checks for arch 'i386'
** checking whether the package can be loaded ... OK
** checking whether the package can be loaded with stated dependencies ... OK
** checking whether the package can be unloaded cleanly ... OK
** checking whether the namespace can be loaded with stated dependencies ... OK
** checking whether the namespace can be unloaded cleanly ... OK
* loading checks for arch 'x64'
** checking whether the package can be loaded ... OK
** checking whether the package can be loaded with stated dependencies ... OK
** checking whether the package can be unloaded cleanly ... OK
** checking whether the namespace can be loaded with stated dependencies ... OK
** checking whether the namespace can be unloaded cleanly ... OK
* checking dependencies in R code ... OK
* checking S3 generic/method consistency ... OK
* checking replacement functions ... OK
* checking foreign function calls ... OK
* checking R code for possible problems ... OK
* checking Rd files ... OK
* checking Rd metadata ... OK
* checking Rd cross-references ... OK
* checking for missing documentation entries ... OK
* checking for code/documentation mismatches ... OK
* checking Rd \usage sections ... OK
* checking Rd contents ... OK
* checking for unstated dependencies in examples ... OK
* checking contents of 'data' directory ... OK
* checking data for non-ASCII characters ... OK
* checking data for ASCII and uncompressed saves ... OK
* checking files in 'vignettes' ... OK
* checking examples ...
** running examples for arch 'i386' ... OK
Examples with CPU (user + system) or elapsed time > 5s
                   user system elapsed
fitBiasModels     19.84   1.26   25.76
estimateAbundance 17.30   2.30   21.98
predictCoverage   11.34   0.67   12.32
getFragmentWidths  7.24   0.19    7.82
getReadLength      5.89   0.23    6.37
buildFragtypes     3.43   0.28    6.31
** running examples for arch 'x64' ... OK
Examples with CPU (user + system) or elapsed time > 5s
                   user system elapsed
fitBiasModels     18.56   0.98   19.94
estimateAbundance 15.61   1.56   17.82
predictCoverage   10.44   0.56   11.26
getFragmentWidths  7.20   0.28    7.83
getReadLength      6.06   0.21    6.55
* checking for unstated dependencies in 'tests' ... OK
* checking tests ...
** running tests for arch 'i386' ...
  Running 'testthat.R'
 OK
** running tests for arch 'x64' ...
  Running 'testthat.R'
 OK
* checking for unstated dependencies in vignettes ... OK
* checking package vignettes in 'inst/doc' ... OK
* checking running R code from vignettes ... SKIPPED
* checking re-building of vignette outputs ... SKIPPED
* checking PDF version of manual ... OK
* DONE

Status: OK


Installation output

alpine.Rcheck/00install.out

##############################################################################
##############################################################################
###
### Running command:
###
###   C:\cygwin\bin\curl.exe -O http://155.52.207.165/BBS/3.13/bioc/src/contrib/alpine_1.18.0.tar.gz && rm -rf alpine.buildbin-libdir && mkdir alpine.buildbin-libdir && C:\Users\biocbuild\bbs-3.13-bioc\R\bin\R.exe CMD INSTALL --merge-multiarch --build --library=alpine.buildbin-libdir alpine_1.18.0.tar.gz && C:\Users\biocbuild\bbs-3.13-bioc\R\bin\R.exe CMD INSTALL alpine_1.18.0.zip && rm alpine_1.18.0.tar.gz alpine_1.18.0.zip
###
##############################################################################
##############################################################################


  % Total    % Received % Xferd  Average Speed   Time    Time     Time  Current
                                 Dload  Upload   Total   Spent    Left  Speed

  0     0    0     0    0     0      0      0 --:--:-- --:--:-- --:--:--     0
100  193k  100  193k    0     0  1312k      0 --:--:-- --:--:-- --:--:-- 1318k

install for i386

* installing *source* package 'alpine' ...
** using staged installation
** R
** data
** inst
** byte-compile and prepare package for lazy loading
** help
*** installing help indices
  converting help for package 'alpine'
    finding HTML links ... done
    alpine-package                          html  
    buildFragtypes                          html  
    estimateAbundance                       html  
    extractAlpine                           html  
    fitBiasModels                           html  
    getFragmentWidths                       html  
    getReadLength                           html  
    mergeGenes                              html  
    normalizeDESeq                          html  
    plotFragLen                             html  
    plotGC                                  html  
    plotGRL                                 html  
    plotOrder0                              html  
    plotRelPos                              html  
    predictCoverage                         html  
    preprocessedData                        html  
    splitGenesAcrossChroms                  html  
    splitLongGenes                          html  
** building package indices
** installing vignettes
** testing if installed package can be loaded from temporary location
** testing if installed package can be loaded from final location
** testing if installed package keeps a record of temporary installation path

install for x64

* installing *source* package 'alpine' ...
** testing if installed package can be loaded
* MD5 sums
packaged installation of 'alpine' as alpine_1.18.0.zip
* DONE (alpine)
* installing to library 'C:/Users/biocbuild/bbs-3.13-bioc/R/library'
package 'alpine' successfully unpacked and MD5 sums checked

Tests output

alpine.Rcheck/tests_i386/testthat.Rout


R version 4.1.0 (2021-05-18) -- "Camp Pontanezen"
Copyright (C) 2021 The R Foundation for Statistical Computing
Platform: i386-w64-mingw32/i386 (32-bit)

R is free software and comes with ABSOLUTELY NO WARRANTY.
You are welcome to redistribute it under certain conditions.
Type 'license()' or 'licence()' for distribution details.

R is a collaborative project with many contributors.
Type 'contributors()' for more information and
'citation()' on how to cite R or R packages in publications.

Type 'demo()' for some demos, 'help()' for on-line help, or
'help.start()' for an HTML browser interface to help.
Type 'q()' to quit R.

> library(testthat)
> library(alpine)
> test_check("alpine")
[ FAIL 0 | WARN 4 | SKIP 0 | PASS 1 ]
> 
> proc.time()
   user  system elapsed 
  51.09    4.67   56.50 

alpine.Rcheck/tests_x64/testthat.Rout


R version 4.1.0 (2021-05-18) -- "Camp Pontanezen"
Copyright (C) 2021 The R Foundation for Statistical Computing
Platform: x86_64-w64-mingw32/x64 (64-bit)

R is free software and comes with ABSOLUTELY NO WARRANTY.
You are welcome to redistribute it under certain conditions.
Type 'license()' or 'licence()' for distribution details.

R is a collaborative project with many contributors.
Type 'contributors()' for more information and
'citation()' on how to cite R or R packages in publications.

Type 'demo()' for some demos, 'help()' for on-line help, or
'help.start()' for an HTML browser interface to help.
Type 'q()' to quit R.

> library(testthat)
> library(alpine)
> test_check("alpine")
[ FAIL 0 | WARN 4 | SKIP 0 | PASS 1 ]
> 
> proc.time()
   user  system elapsed 
  53.50    3.40   57.48 

Example timings

alpine.Rcheck/examples_i386/alpine-Ex.timings

nameusersystemelapsed
buildFragtypes3.430.286.31
estimateAbundance17.30 2.3021.98
extractAlpine0.030.000.03
fitBiasModels19.84 1.2625.76
getFragmentWidths7.240.197.82
getReadLength5.890.236.37
mergeGenes0.330.020.37
normalizeDESeq000
plotFragLen0.050.020.06
plotGC0.060.010.08
plotGRL0.250.020.27
plotOrder00.090.010.11
plotRelPos0.050.000.04
predictCoverage11.34 0.6712.32
splitGenesAcrossChroms0.410.000.41
splitLongGenes0.510.000.51

alpine.Rcheck/examples_x64/alpine-Ex.timings

nameusersystemelapsed
buildFragtypes3.390.133.52
estimateAbundance15.61 1.5617.82
extractAlpine0.040.000.03
fitBiasModels18.56 0.9819.94
getFragmentWidths7.200.287.83
getReadLength6.060.216.55
mergeGenes0.360.000.36
normalizeDESeq000
plotFragLen0.040.000.03
plotGC0.040.000.04
plotGRL0.160.010.19
plotOrder00.060.000.06
plotRelPos0.030.000.04
predictCoverage10.44 0.5611.26
splitGenesAcrossChroms0.330.040.36
splitLongGenes0.50.00.5