Back to Multiple platform build/check report for BioC 3.13
[A]BCDEFGHIJKLMNOPQRSTUVWXYZ

This page was generated on 2021-07-23 15:05:56 -0400 (Fri, 23 Jul 2021).

BUILD results for alpine on tokay2

To the developers/maintainers of the alpine package:
- Please allow up to 24 hours (and sometimes 48 hours) for your latest push to git@git.bioconductor.org:packages/alpine.git to
reflect on this report. See How and When does the builder pull? When will my changes propagate? here for more information.
- Make sure to use the following settings in order to reproduce any error or warning you see on this page.

raw results

Package 46/2041HostnameOS / ArchINSTALLBUILDCHECKBUILD BIN
alpine 1.18.0  (landing page)
Michael Love
Snapshot Date: 2021-07-22 04:50:13 -0400 (Thu, 22 Jul 2021)
URL: https://git.bioconductor.org/packages/alpine
Branch: RELEASE_3_13
Last Commit: 06257d2
Last Changed Date: 2021-05-19 12:22:33 -0400 (Wed, 19 May 2021)
nebbiolo1Linux (Ubuntu 20.04.2 LTS) / x86_64  OK    OK    OK  UNNEEDED, same version is already published
tokay2Windows Server 2012 R2 Standard / x64  OK    OK    OK    OK  UNNEEDED, same version is already published
machv2macOS 10.14.6 Mojave / x86_64  OK    OK    OK    OK  UNNEEDED, same version is already published

Summary

Package: alpine
Version: 1.18.0
Command: chmod a+r alpine -R && C:\Users\biocbuild\bbs-3.13-bioc\R\bin\R.exe CMD build --keep-empty-dirs --no-resave-data alpine
StartedAt: 2021-07-22 11:47:53 -0400 (Thu, 22 Jul 2021)
EndedAt: 2021-07-22 11:54:47 -0400 (Thu, 22 Jul 2021)
EllapsedTime: 414.2 seconds
RetCode: 0
Status:   OK  
PackageFile: alpine_1.18.0.tar.gz
PackageFileSize: 254.2 KiB

Command output

##############################################################################
##############################################################################
###
### Running command:
###
###   chmod a+r alpine -R && C:\Users\biocbuild\bbs-3.13-bioc\R\bin\R.exe CMD build --keep-empty-dirs --no-resave-data alpine
###
##############################################################################
##############################################################################


* checking for file 'alpine/DESCRIPTION' ... OK
* preparing 'alpine':
* checking DESCRIPTION meta-information ... OK
* installing the package to build vignettes
* creating vignettes ... OK
* checking for LF line-endings in source and make files and shell scripts
* checking for empty or unneeded directories
* looking to see if a 'data/datalist' file should be added
* building 'alpine_1.18.0.tar.gz'