Index of /checkResults/release/bioc-LATEST/alabaster.spatial/raw-results

[ICO]NameLast modifiedSizeDescription

[DIR]Parent Directory  -  
[   ]info.dcf08-Jun-2024 09:22 308  
[DIR]kjohnson3/08-Jun-2024 09:27 -  
[DIR]kunpeng2/10-May-2024 00:40 -  
[DIR]lconway/08-Jun-2024 09:26 -  
[DIR]merida1/05-Mar-2024 01:38 -  
[DIR]nebbiolo1/08-Jun-2024 09:23 -  
[DIR]palomino3/08-Jun-2024 09:25 -