Back to Multiple platform build/check report for BioC 3.19:   simplified   long
[A]BCDEFGHIJKLMNOPQRSTUVWXYZ

This page was generated on 2024-05-25 11:34:29 -0400 (Sat, 25 May 2024).

HostnameOSArch (*)R versionInstalled pkgs
nebbiolo1Linux (Ubuntu 22.04.3 LTS)x86_644.4.0 (2024-04-24) -- "Puppy Cup" 4751
lconwaymacOS 12.7.1 Montereyx86_644.4.0 (2024-04-24) -- "Puppy Cup" 4516
Click on any hostname to see more info about the system (e.g. compilers)      (*) as reported by 'uname -p', except on Windows and Mac OS X

All results for package alabaster.base


To the developers/maintainers of the alabaster.base package:
- Allow up to 24 hours (and sometimes 48 hours) for your latest push to git@git.bioconductor.org:packages/alabaster.base.git to reflect on this report. See Troubleshooting Build Report for more information.
- Use the following Renviron settings to reproduce errors and warnings.
- If 'R CMD check' started to fail recently on the Linux builder(s) over a missing dependency, add the missing dependency to 'Suggests:' in your DESCRIPTION file. See Renviron.bioc for more information.

raw results

Package 40/2300HostnameOS / ArchINSTALLBUILDCHECKBUILD BIN
alabaster.base 1.4.1  (landing page)
Aaron Lun
Snapshot Date: 2024-05-24 14:00:07 -0400 (Fri, 24 May 2024)
git_url: https://git.bioconductor.org/packages/alabaster.base
git_branch: RELEASE_3_19
git_last_commit: be210ea
git_last_commit_date: 2024-05-03 03:04:31 -0400 (Fri, 03 May 2024)
nebbiolo1Linux (Ubuntu 22.04.3 LTS) / x86_64  OK    OK    WARNINGS  UNNEEDED, same version is already published
lconwaymacOS 12.7.1 Monterey / x86_64  OK    OK    WARNINGS    OK  UNNEEDED, same version is already published
kjohnson3macOS 13.6.5 Ventura / arm64see weekly results here

Results for Bioconductor software packages that depend directly on package alabaster.base

QUICK STATSOS / ArchINSTALLBUILDCHECKBUILD BIN
nebbiolo1Linux (Ubuntu 22.04.3 LTS) / x86_64
0011
0011
00011
lconwaymacOS 12.7.1 Monterey / x86_64
0011
0011
00011
0011
Package 1/11HostnameOS / ArchINSTALLBUILDCHECKBUILD BIN
alabaster 1.4.0  (landing page)
Aaron Lun
git_last_commit: 67f4462
git_last_commit_date: 2024-04-30 11:47:44 -0400
nebbiolo1Linux (Ubuntu 22.04.3 LTS) / x86_64  OK    OK    OK  UNNEEDED, same version is already published
lconwaymacOS 12.7.1 Monterey / x86_64  OK    OK    OK    OK  UNNEEDED, same version is already published
kjohnson3macOS 13.6.5 Ventura / arm64see weekly results here
Package 2/11HostnameOS / ArchINSTALLBUILDCHECKBUILD BIN
alabaster.bumpy 1.4.0  (landing page)
Aaron Lun
git_last_commit: 31e3931
git_last_commit_date: 2024-04-30 11:47:33 -0400
nebbiolo1Linux (Ubuntu 22.04.3 LTS) / x86_64  OK    OK    OK  UNNEEDED, same version is already published
lconwaymacOS 12.7.1 Monterey / x86_64  OK    OK    OK    OK  UNNEEDED, same version is already published
kjohnson3macOS 13.6.5 Ventura / arm64see weekly results here
Package 3/11HostnameOS / ArchINSTALLBUILDCHECKBUILD BIN
alabaster.files 1.2.0  (landing page)
Aaron Lun
git_last_commit: f83d648
git_last_commit_date: 2024-04-30 11:50:16 -0400
nebbiolo1Linux (Ubuntu 22.04.3 LTS) / x86_64  OK    OK    OK  UNNEEDED, same version is already published
lconwaymacOS 12.7.1 Monterey / x86_64  OK    OK    OK    OK  UNNEEDED, same version is already published
kjohnson3macOS 13.6.5 Ventura / arm64see weekly results here
Package 4/11HostnameOS / ArchINSTALLBUILDCHECKBUILD BIN
alabaster.mae 1.4.0  (landing page)
Aaron Lun
git_last_commit: 4496e39
git_last_commit_date: 2024-04-30 11:47:36 -0400
nebbiolo1Linux (Ubuntu 22.04.3 LTS) / x86_64  OK    OK    OK  UNNEEDED, same version is already published
lconwaymacOS 12.7.1 Monterey / x86_64  OK    OK    OK    OK  UNNEEDED, same version is already published
kjohnson3macOS 13.6.5 Ventura / arm64see weekly results here
Package 5/11HostnameOS / ArchINSTALLBUILDCHECKBUILD BIN
alabaster.matrix 1.4.0  (landing page)
Aaron Lun
git_last_commit: d0aba74
git_last_commit_date: 2024-04-30 11:47:22 -0400
nebbiolo1Linux (Ubuntu 22.04.3 LTS) / x86_64  OK    OK    OK  UNNEEDED, same version is already published
lconwaymacOS 12.7.1 Monterey / x86_64  OK    OK    OK    OK  UNNEEDED, same version is already published
kjohnson3macOS 13.6.5 Ventura / arm64see weekly results here
Package 6/11HostnameOS / ArchINSTALLBUILDCHECKBUILD BIN
alabaster.ranges 1.4.1  (landing page)
Aaron Lun
git_last_commit: 4760e5b
git_last_commit_date: 2024-05-20 19:07:39 -0400
nebbiolo1Linux (Ubuntu 22.04.3 LTS) / x86_64  OK    OK    OK  UNNEEDED, same version is already published
lconwaymacOS 12.7.1 Monterey / x86_64  OK    OK    OK    OK  UNNEEDED, same version is already published
kjohnson3macOS 13.6.5 Ventura / arm64see weekly results here
Package 7/11HostnameOS / ArchINSTALLBUILDCHECKBUILD BIN
alabaster.sce 1.4.0  (landing page)
Aaron Lun
git_last_commit: 5d6e1fa
git_last_commit_date: 2024-04-30 11:47:28 -0400
nebbiolo1Linux (Ubuntu 22.04.3 LTS) / x86_64  OK    OK    OK  UNNEEDED, same version is already published
lconwaymacOS 12.7.1 Monterey / x86_64  OK    OK    OK    OK  UNNEEDED, same version is already published
kjohnson3macOS 13.6.5 Ventura / arm64see weekly results here
Package 8/11HostnameOS / ArchINSTALLBUILDCHECKBUILD BIN
alabaster.se 1.4.1  (landing page)
Aaron Lun
git_last_commit: eb38c1c
git_last_commit_date: 2024-05-21 11:33:29 -0400
nebbiolo1Linux (Ubuntu 22.04.3 LTS) / x86_64  OK    OK    OK  UNNEEDED, same version is already published
lconwaymacOS 12.7.1 Monterey / x86_64  OK    OK    OK    OK  YES
kjohnson3macOS 13.6.5 Ventura / arm64see weekly results here
Package 9/11HostnameOS / ArchINSTALLBUILDCHECKBUILD BIN
alabaster.spatial 1.4.0  (landing page)
Aaron Lun
git_last_commit: 8ea05f7
git_last_commit_date: 2024-04-30 11:47:30 -0400
nebbiolo1Linux (Ubuntu 22.04.3 LTS) / x86_64  OK    OK    OK  UNNEEDED, same version is already published
lconwaymacOS 12.7.1 Monterey / x86_64  OK    OK    OK    OK  UNNEEDED, same version is already published
kjohnson3macOS 13.6.5 Ventura / arm64see weekly results here
Package 10/11HostnameOS / ArchINSTALLBUILDCHECKBUILD BIN
alabaster.string 1.4.0  (landing page)
Aaron Lun
git_last_commit: 76512fc
git_last_commit_date: 2024-04-30 11:47:39 -0400
nebbiolo1Linux (Ubuntu 22.04.3 LTS) / x86_64  OK    OK    OK  UNNEEDED, same version is already published
lconwaymacOS 12.7.1 Monterey / x86_64  OK    OK    OK    OK  UNNEEDED, same version is already published
kjohnson3macOS 13.6.5 Ventura / arm64see weekly results here
Package 11/11HostnameOS / ArchINSTALLBUILDCHECKBUILD BIN
alabaster.vcf 1.4.0  (landing page)
Aaron Lun
git_last_commit: 87779af
git_last_commit_date: 2024-04-30 11:47:41 -0400
nebbiolo1Linux (Ubuntu 22.04.3 LTS) / x86_64  OK    OK    OK  UNNEEDED, same version is already published
lconwaymacOS 12.7.1 Monterey / x86_64  OK    OK    OK    OK  UNNEEDED, same version is already published
kjohnson3macOS 13.6.5 Ventura / arm64see weekly results here