Back to Multiple platform build/check report for BioC 3.13
[A]BCDEFGHIJKLMNOPQRSTUVWXYZ

This page was generated on 2021-09-13 15:06:49 -0400 (Mon, 13 Sep 2021).

BUILD results for airpart on machv2

To the developers/maintainers of the airpart package:
- Please allow up to 24 hours (and sometimes 48 hours) for your latest push to git@git.bioconductor.org:packages/airpart.git to
reflect on this report. See How and When does the builder pull? When will my changes propagate? here for more information.
- Make sure to use the following settings in order to reproduce any error or warning you see on this page.

raw results

Package 41/2041HostnameOS / ArchINSTALLBUILDCHECKBUILD BIN
airpart 1.0.1  (landing page)
Wancen Mu
Snapshot Date: 2021-09-12 04:50:10 -0400 (Sun, 12 Sep 2021)
git_url: https://git.bioconductor.org/packages/airpart
git_branch: RELEASE_3_13
git_last_commit: 39ff0e5
git_last_commit_date: 2021-08-23 14:27:56 -0400 (Mon, 23 Aug 2021)
nebbiolo1Linux (Ubuntu 20.04.2 LTS) / x86_64  OK    OK    OK  UNNEEDED, same version is already published
tokay2Windows Server 2012 R2 Standard / x64  OK    OK    OK    OK  UNNEEDED, same version is already published
machv2macOS 10.14.6 Mojave / x86_64  OK    OK    OK    OK  UNNEEDED, same version is already published

Summary

Package: airpart
Version: 1.0.1
Command: /Library/Frameworks/R.framework/Versions/Current/Resources/bin/R CMD build --keep-empty-dirs --no-resave-data airpart
StartedAt: 2021-09-12 10:28:48 -0400 (Sun, 12 Sep 2021)
EndedAt: 2021-09-12 10:30:24 -0400 (Sun, 12 Sep 2021)
EllapsedTime: 96.5 seconds
RetCode: 0
Status:   OK  
PackageFile: airpart_1.0.1.tar.gz
PackageFileSize: 1.111 MiB

Command output

##############################################################################
##############################################################################
###
### Running command:
###
###   /Library/Frameworks/R.framework/Versions/Current/Resources/bin/R CMD build --keep-empty-dirs --no-resave-data airpart
###
##############################################################################
##############################################################################


* checking for file ‘airpart/DESCRIPTION’ ... OK
* preparing ‘airpart’:
* checking DESCRIPTION meta-information ... OK
* installing the package to build vignettes
* creating vignettes ... OK
* checking for LF line-endings in source and make files and shell scripts
* checking for empty or unneeded directories
* building ‘airpart_1.0.1.tar.gz’