Back to Multiple platform build/check report for BioC 3.13
[A]BCDEFGHIJKLMNOPQRSTUVWXYZ

This page was generated on 2021-09-22 15:05:36 -0400 (Wed, 22 Sep 2021).

BUILD BIN results for airpart on machv2

To the developers/maintainers of the airpart package:
- Please allow up to 24 hours (and sometimes 48 hours) for your latest push to git@git.bioconductor.org:packages/airpart.git to
reflect on this report. See How and When does the builder pull? When will my changes propagate? here for more information.
- Make sure to use the following settings in order to reproduce any error or warning you see on this page.

raw results

Package 41/2041HostnameOS / ArchINSTALLBUILDCHECKBUILD BIN
airpart 1.0.1  (landing page)
Wancen Mu
Snapshot Date: 2021-09-21 04:50:12 -0400 (Tue, 21 Sep 2021)
git_url: https://git.bioconductor.org/packages/airpart
git_branch: RELEASE_3_13
git_last_commit: 39ff0e5
git_last_commit_date: 2021-08-23 14:27:56 -0400 (Mon, 23 Aug 2021)
nebbiolo1Linux (Ubuntu 20.04.2 LTS) / x86_64  OK    OK    OK  UNNEEDED, same version is already published
tokay2Windows Server 2012 R2 Standard / x64  OK    OK    OK    OK  UNNEEDED, same version is already published
machv2macOS 10.14.6 Mojave / x86_64  OK    OK    OK    OK  UNNEEDED, same version is already published

Summary

Package: airpart
Version: 1.0.1
Command: rm -rf airpart.buildbin-libdir && mkdir airpart.buildbin-libdir && /Users/biocbuild/BBS/utils/build-universal.sh airpart_1.0.1.tar.gz /Library/Frameworks/R.framework/Versions/Current/Resources/bin/R airpart.buildbin-libdir
StartedAt: 2021-09-22 01:36:13 -0400 (Wed, 22 Sep 2021)
EndedAt: 2021-09-22 01:37:22 -0400 (Wed, 22 Sep 2021)
EllapsedTime: 68.7 seconds
RetCode: 0
Status:   OK  
PackageFile: airpart_1.0.1.tgz
PackageFileSize: 1.178 MiB

Command output

##############################################################################
##############################################################################
###
### Running command:
###
###   rm -rf airpart.buildbin-libdir && mkdir airpart.buildbin-libdir && /Users/biocbuild/BBS/utils/build-universal.sh airpart_1.0.1.tar.gz /Library/Frameworks/R.framework/Versions/Current/Resources/bin/R airpart.buildbin-libdir
###
##############################################################################
##############################################################################


>>>>>>> 
>>>>>>> INSTALLATION WITH 'R CMD INSTALL --preclean --no-multiarch --library=airpart.buildbin-libdir airpart_1.0.1.tar.gz'
>>>>>>> 

* installing *source* package ‘airpart’ ...
** using staged installation
** R
** inst
** byte-compile and prepare package for lazy loading
** help
*** installing help indices
** building package indices
** installing vignettes
** testing if installed package can be loaded from temporary location
** testing if installed package can be loaded from final location
** testing if installed package keeps a record of temporary installation path
* DONE (airpart)