Back to Multiple platform build/check report for BioC 3.13
[A]BCDEFGHIJKLMNOPQRSTUVWXYZ

This page was generated on 2021-09-22 15:05:07 -0400 (Wed, 22 Sep 2021).

INSTALL results for aggregateBioVar on tokay2

To the developers/maintainers of the aggregateBioVar package:
- Please allow up to 24 hours (and sometimes 48 hours) for your latest push to git@git.bioconductor.org:packages/aggregateBioVar.git to
reflect on this report. See How and When does the builder pull? When will my changes propagate? here for more information.
- Make sure to use the following settings in order to reproduce any error or warning you see on this page.

raw results

Package 37/2041HostnameOS / ArchINSTALLBUILDCHECKBUILD BIN
aggregateBioVar 1.2.0  (landing page)
Jason Ratcliff
Snapshot Date: 2021-09-21 04:50:12 -0400 (Tue, 21 Sep 2021)
git_url: https://git.bioconductor.org/packages/aggregateBioVar
git_branch: RELEASE_3_13
git_last_commit: 70ba9dd
git_last_commit_date: 2021-05-19 12:56:03 -0400 (Wed, 19 May 2021)
nebbiolo1Linux (Ubuntu 20.04.2 LTS) / x86_64  OK    OK    OK  UNNEEDED, same version is already published
tokay2Windows Server 2012 R2 Standard / x64  OK    OK    OK    OK  UNNEEDED, same version is already published
machv2macOS 10.14.6 Mojave / x86_64  OK    OK    OK    OK  UNNEEDED, same version is already published

Summary

Package: aggregateBioVar
Version: 1.2.0
Command: C:\cygwin\bin\curl.exe -O http://155.52.207.165/BBS/3.13/bioc/src/contrib/aggregateBioVar_1.2.0.tar.gz && rm -rf aggregateBioVar.buildbin-libdir && mkdir aggregateBioVar.buildbin-libdir && C:\Users\biocbuild\bbs-3.13-bioc\R\bin\R.exe CMD INSTALL --merge-multiarch --build --library=aggregateBioVar.buildbin-libdir aggregateBioVar_1.2.0.tar.gz && C:\Users\biocbuild\bbs-3.13-bioc\R\bin\R.exe CMD INSTALL aggregateBioVar_1.2.0.zip && rm aggregateBioVar_1.2.0.tar.gz aggregateBioVar_1.2.0.zip
StartedAt: 2021-09-21 08:50:45 -0400 (Tue, 21 Sep 2021)
EndedAt: 2021-09-21 08:51:30 -0400 (Tue, 21 Sep 2021)
EllapsedTime: 45.0 seconds
RetCode: 0
Status:   OK  

Command output

##############################################################################
##############################################################################
###
### Running command:
###
###   C:\cygwin\bin\curl.exe -O http://155.52.207.165/BBS/3.13/bioc/src/contrib/aggregateBioVar_1.2.0.tar.gz && rm -rf aggregateBioVar.buildbin-libdir && mkdir aggregateBioVar.buildbin-libdir && C:\Users\biocbuild\bbs-3.13-bioc\R\bin\R.exe CMD INSTALL --merge-multiarch --build --library=aggregateBioVar.buildbin-libdir aggregateBioVar_1.2.0.tar.gz && C:\Users\biocbuild\bbs-3.13-bioc\R\bin\R.exe CMD INSTALL aggregateBioVar_1.2.0.zip && rm aggregateBioVar_1.2.0.tar.gz aggregateBioVar_1.2.0.zip
###
##############################################################################
##############################################################################


  % Total    % Received % Xferd  Average Speed   Time    Time     Time  Current
                                 Dload  Upload   Total   Spent    Left  Speed

  0     0    0     0    0     0      0      0 --:--:-- --:--:-- --:--:--     0
  7 3131k    7  225k    0     0   843k      0  0:00:03 --:--:--  0:00:03  843k
 76 3131k   76 2388k    0     0  1882k      0  0:00:01  0:00:01 --:--:-- 1882k
100 3131k  100 3131k    0     0  2029k      0  0:00:01  0:00:01 --:--:-- 2029k

install for i386

* installing *source* package 'aggregateBioVar' ...
** using staged installation
** R
** data
*** moving datasets to lazyload DB
** byte-compile and prepare package for lazy loading
** help
*** installing help indices
  converting help for package 'aggregateBioVar'
    finding HTML links ... done
    aggregateBioVar                         html  
    finding level-2 HTML links ... done

    countsByCell                            html  
    countsBySubject                         html  
    scSubjects                              html  
    small_airway                            html  
    subjectMetaData                         html  
    summarizedCounts                        html  
*** copying figures
** building package indices
** installing vignettes
** testing if installed package can be loaded from temporary location
** testing if installed package can be loaded from final location
** testing if installed package keeps a record of temporary installation path

install for x64

* installing *source* package 'aggregateBioVar' ...
** testing if installed package can be loaded
* MD5 sums
packaged installation of 'aggregateBioVar' as aggregateBioVar_1.2.0.zip
* DONE (aggregateBioVar)
* installing to library 'C:/Users/biocbuild/bbs-3.13-bioc/R/library'
package 'aggregateBioVar' successfully unpacked and MD5 sums checked