Back to Multiple platform build/check report for BioC 3.13
[A]BCDEFGHIJKLMNOPQRSTUVWXYZ

This page was generated on 2021-09-24 15:06:01 -0400 (Fri, 24 Sep 2021).

BUILD results for aggregateBioVar on tokay2

To the developers/maintainers of the aggregateBioVar package:
- Please allow up to 24 hours (and sometimes 48 hours) for your latest push to git@git.bioconductor.org:packages/aggregateBioVar.git to
reflect on this report. See How and When does the builder pull? When will my changes propagate? here for more information.
- Make sure to use the following settings in order to reproduce any error or warning you see on this page.

raw results

Package 37/2041HostnameOS / ArchINSTALLBUILDCHECKBUILD BIN
aggregateBioVar 1.2.0  (landing page)
Jason Ratcliff
Snapshot Date: 2021-09-23 04:50:12 -0400 (Thu, 23 Sep 2021)
git_url: https://git.bioconductor.org/packages/aggregateBioVar
git_branch: RELEASE_3_13
git_last_commit: 70ba9dd
git_last_commit_date: 2021-05-19 12:56:03 -0400 (Wed, 19 May 2021)
nebbiolo1Linux (Ubuntu 20.04.2 LTS) / x86_64  OK    OK    OK  UNNEEDED, same version is already published
tokay2Windows Server 2012 R2 Standard / x64  OK    OK    OK    OK  UNNEEDED, same version is already published
machv2macOS 10.14.6 Mojave / x86_64  OK    OK    OK    OK  UNNEEDED, same version is already published

Summary

Package: aggregateBioVar
Version: 1.2.0
Command: chmod a+r aggregateBioVar -R && C:\Users\biocbuild\bbs-3.13-bioc\R\bin\R.exe CMD build --keep-empty-dirs --no-resave-data aggregateBioVar
StartedAt: 2021-09-23 11:09:50 -0400 (Thu, 23 Sep 2021)
EndedAt: 2021-09-23 11:11:27 -0400 (Thu, 23 Sep 2021)
EllapsedTime: 96.7 seconds
RetCode: 0
Status:   OK  
PackageFile: aggregateBioVar_1.2.0.tar.gz
PackageFileSize: 985.2 KiB

Command output

##############################################################################
##############################################################################
###
### Running command:
###
###   chmod a+r aggregateBioVar -R && C:\Users\biocbuild\bbs-3.13-bioc\R\bin\R.exe CMD build --keep-empty-dirs --no-resave-data aggregateBioVar
###
##############################################################################
##############################################################################


* checking for file 'aggregateBioVar/DESCRIPTION' ... OK
* preparing 'aggregateBioVar':
* checking DESCRIPTION meta-information ... OK
* installing the package to build vignettes
* creating vignettes ... OK
* checking for LF line-endings in source and make files and shell scripts
* checking for empty or unneeded directories
* building 'aggregateBioVar_1.2.0.tar.gz'