Back to Multiple platform build/check report for BioC 3.13
ABCDEFGHIJKLMNOPQRSTUVW[X]YZ

This page was generated on 2021-09-20 15:04:42 -0400 (Mon, 20 Sep 2021).

All results for package XBSeq

To the developers/maintainers of the XBSeq package:
- Please allow up to 24 hours (and sometimes 48 hours) for your latest push to git@git.bioconductor.org:packages/XBSeq.git to
reflect on this report. See How and When does the builder pull? When will my changes propagate? here for more information.
- Make sure to use the following settings in order to reproduce any error or warning you see on this page.

raw results

Package 2025/2041HostnameOS / ArchINSTALLBUILDCHECKBUILD BIN
XBSeq 1.24.0  (landing page)
Yuanhang Liu
Snapshot Date: 2021-09-19 04:50:10 -0400 (Sun, 19 Sep 2021)
git_url: https://git.bioconductor.org/packages/XBSeq
git_branch: RELEASE_3_13
git_last_commit: b28a2ce
git_last_commit_date: 2021-05-19 12:14:23 -0400 (Wed, 19 May 2021)
nebbiolo1Linux (Ubuntu 20.04.2 LTS) / x86_64  OK    ERROR  skipped
tokay2Windows Server 2012 R2 Standard / x64  OK    ERROR  skippedskipped
machv2macOS 10.14.6 Mojave / x86_64  OK    ERROR  skippedskipped