Back to Multiple platform build/check report for BioC 3.13
ABCDEFGHIJKLMNOPQRSTU[V]WXYZ

This page was generated on 2021-09-20 15:05:33 -0400 (Mon, 20 Sep 2021).

BUILD BIN results for ViSEAGO on tokay2

To the developers/maintainers of the ViSEAGO package:
- Please allow up to 24 hours (and sometimes 48 hours) for your latest push to git@git.bioconductor.org:packages/ViSEAGO.git to
reflect on this report. See How and When does the builder pull? When will my changes propagate? here for more information.
- Make sure to use the following settings in order to reproduce any error or warning you see on this page.

raw results

Package 2008/2041HostnameOS / ArchINSTALLBUILDCHECKBUILD BIN
ViSEAGO 1.6.0  (landing page)
Aurelien Brionne
Snapshot Date: 2021-09-19 04:50:10 -0400 (Sun, 19 Sep 2021)
git_url: https://git.bioconductor.org/packages/ViSEAGO
git_branch: RELEASE_3_13
git_last_commit: 320ba38
git_last_commit_date: 2021-05-19 12:44:50 -0400 (Wed, 19 May 2021)
nebbiolo1Linux (Ubuntu 20.04.2 LTS) / x86_64  OK    OK    WARNINGS  UNNEEDED, same version is already published
tokay2Windows Server 2012 R2 Standard / x64  OK    OK    WARNINGS    OK  UNNEEDED, same version is already published
machv2macOS 10.14.6 Mojave / x86_64  OK    OK    WARNINGS    OK  UNNEEDED, same version is already published

Summary

Package: ViSEAGO
Version: 1.6.0
Command: rm -rf ViSEAGO.buildbin-libdir && mkdir ViSEAGO.buildbin-libdir && C:\Users\biocbuild\bbs-3.13-bioc\R\bin\R.exe CMD INSTALL --merge-multiarch --build --library=ViSEAGO.buildbin-libdir ViSEAGO_1.6.0.tar.gz
StartedAt: 2021-09-20 11:57:52 -0400 (Mon, 20 Sep 2021)
EndedAt: 2021-09-20 11:59:16 -0400 (Mon, 20 Sep 2021)
EllapsedTime: 83.7 seconds
RetCode: 0
Status:   OK  
PackageFile: ViSEAGO_1.6.0.zip
PackageFileSize: 9.14 MiB

Command output

##############################################################################
##############################################################################
###
### Running command:
###
###   rm -rf ViSEAGO.buildbin-libdir && mkdir ViSEAGO.buildbin-libdir && C:\Users\biocbuild\bbs-3.13-bioc\R\bin\R.exe CMD INSTALL --merge-multiarch --build --library=ViSEAGO.buildbin-libdir ViSEAGO_1.6.0.tar.gz
###
##############################################################################
##############################################################################



install for i386

* installing *source* package 'ViSEAGO' ...
** using staged installation
** R
** data
** inst
** byte-compile and prepare package for lazy loading
Warning: replacing previous import 'data.table::set' by 'dendextend::set' when loading 'ViSEAGO'
Note: possible error in 'listEnsembl(host = host, ': unused argument (host = host) 
** help
*** installing help indices
  converting help for package 'ViSEAGO'
    finding HTML links ... done
    Bioconductor2GO                         html  
    Custom2GO                               html  
    Ensembl2GO                              html  
    EntrezGene2GO                           html  
    EntrezGene_orthologs                    html  
    GO_SS-class                             html  
    GO_clusters-class                       html  
    GOclusters_heatmap-methods              html  
    GOcount-methods                         html  
    GOterms_heatmap-methods                 html  
    MDSplot-methods                         html  
    Uniprot2GO                              html  
    Upset-methods                           html  
    ViSEAGO                                 html  
    annotate-methods                        html  
    available_organisms-methods             html  
    build_GO_SS-methods                     html  
    clusters_cor-methods                    html  
    compare_clusters-methods                html  
    compute_SS_distances-methods            html  
    create_topGOdata-methods                html  
    enrich_GO_terms-class                   html  
    fgsea-class                             html  
    gene2GO-class                           html  
    genomic_ressource-class                 html  
    merge_enrich_terms-methods              html  
    myGOs                                   html  
    overLapper                              html  
    finding level-2 HTML links ... done

    pkgdiagram                              html  
    runfgsea-methods                        html  
    show_heatmap-methods                    html  
    show_table-methods                      html  
    taxonomy                                html  
** building package indices
** installing vignettes
** testing if installed package can be loaded from temporary location
Warning: replacing previous import 'data.table::set' by 'dendextend::set' when loading 'ViSEAGO'
** testing if installed package can be loaded from final location
Warning: replacing previous import 'data.table::set' by 'dendextend::set' when loading 'ViSEAGO'
** testing if installed package keeps a record of temporary installation path

install for x64

* installing *source* package 'ViSEAGO' ...
** testing if installed package can be loaded
Warning: replacing previous import 'data.table::set' by 'dendextend::set' when loading 'ViSEAGO'
* MD5 sums
packaged installation of 'ViSEAGO' as ViSEAGO_1.6.0.zip
* DONE (ViSEAGO)