Index of /checkResults/release/bioc-LATEST/VaSP/raw-results/nebbiolo2

[ICO]NameLast modifiedSizeDescription

[DIR]Parent Directory  -  
[TXT]buildsrc-out.txt22-Jan-2022 03:05 856  
[   ]buildsrc-summary.dcf22-Jan-2022 03:05 406  
[TXT]checksrc-out.txt22-Jan-2022 03:05 3.0K 
[   ]checksrc-summary.dcf22-Jan-2022 03:05 410  
[TXT]install-out.txt22-Jan-2022 03:05 946  
[   ]install-summary.dcf22-Jan-2022 03:05 252