Index of /checkResults/release/bioc-LATEST/VaSP/raw-results/nebbiolo1

[ICO]NameLast modifiedSizeDescription

[DIR]Parent Directory  -  
[TXT]buildsrc-out.txt16-Oct-2021 04:05 856  
[   ]buildsrc-summary.dcf16-Oct-2021 04:05 406  
[TXT]checksrc-out.txt16-Oct-2021 04:05 3.0K 
[   ]checksrc-summary.dcf16-Oct-2021 04:05 410  
[TXT]install-out.txt16-Oct-2021 04:05 946  
[   ]install-summary.dcf16-Oct-2021 04:05 252