Index of /checkResults/release/bioc-LATEST/VaSP/raw-results/machv2

[ICO]NameLast modifiedSizeDescription

[DIR]Parent Directory  -  
[TXT]buildbin-out.txt16-Oct-2021 04:06 1.1K 
[   ]buildbin-summary.dcf16-Oct-2021 04:06 526  
[TXT]buildsrc-out.txt16-Oct-2021 04:06 883  
[   ]buildsrc-summary.dcf16-Oct-2021 04:06 432  
[TXT]checksrc-out.txt16-Oct-2021 04:06 3.4K 
[   ]checksrc-summary.dcf16-Oct-2021 04:06 464  
[TXT]install-out.txt16-Oct-2021 04:06 1.0K 
[   ]install-summary.dcf16-Oct-2021 04:06 279