Index of /checkResults/release/bioc-LATEST/VaSP/raw-results

[ICO]NameLast modifiedSizeDescription

[DIR]Parent Directory  -  
[DIR]nebbiolo2/04-Dec-2021 03:05 -  
[DIR]tokay2/04-Dec-2021 03:05 -  
[   ]info.dcf04-Dec-2021 03:06 265  
[DIR]machv2/04-Dec-2021 03:06 -