Back to Multiple platform build/check report for BioC 3.13
ABCDEFGHIJKLMNOPQRSTU[V]WXYZ

This page was generated on 2021-07-23 15:06:55 -0400 (Fri, 23 Jul 2021).

BUILD results for VaSP on machv2

To the developers/maintainers of the VaSP package:
- Please allow up to 24 hours (and sometimes 48 hours) for your latest push to git@git.bioconductor.org:packages/VaSP.git to
reflect on this report. See How and When does the builder pull? When will my changes propagate? here for more information.
- Make sure to use the following settings in order to reproduce any error or warning you see on this page.

raw results

Package 1999/2041HostnameOS / ArchINSTALLBUILDCHECKBUILD BIN
VaSP 1.4.0  (landing page)
Huihui Yu
Snapshot Date: 2021-07-22 04:50:13 -0400 (Thu, 22 Jul 2021)
URL: https://git.bioconductor.org/packages/VaSP
Branch: RELEASE_3_13
Last Commit: 634a71f
Last Changed Date: 2021-05-19 12:49:43 -0400 (Wed, 19 May 2021)
nebbiolo1Linux (Ubuntu 20.04.2 LTS) / x86_64  OK    OK    OK  UNNEEDED, same version is already published
tokay2Windows Server 2012 R2 Standard / x64  OK    OK    OK    OK  UNNEEDED, same version is already published
machv2macOS 10.14.6 Mojave / x86_64  OK    OK    OK    OK  UNNEEDED, same version is already published

Summary

Package: VaSP
Version: 1.4.0
Command: /Library/Frameworks/R.framework/Versions/Current/Resources/bin/R CMD build --keep-empty-dirs --no-resave-data VaSP
StartedAt: 2021-07-22 15:11:57 -0400 (Thu, 22 Jul 2021)
EndedAt: 2021-07-22 15:13:07 -0400 (Thu, 22 Jul 2021)
EllapsedTime: 70.0 seconds
RetCode: 0
Status:   OK  
PackageFile: VaSP_1.4.0.tar.gz
PackageFileSize: 8.73 MiB

Command output

##############################################################################
##############################################################################
###
### Running command:
###
###   /Library/Frameworks/R.framework/Versions/Current/Resources/bin/R CMD build --keep-empty-dirs --no-resave-data VaSP
###
##############################################################################
##############################################################################


* checking for file ‘VaSP/DESCRIPTION’ ... OK
* preparing ‘VaSP’:
* checking DESCRIPTION meta-information ... OK
* installing the package to build vignettes
* creating vignettes ... OK
* checking for LF line-endings in source and make files and shell scripts
* checking for empty or unneeded directories
* looking to see if a ‘data/datalist’ file should be added
* building ‘VaSP_1.4.0.tar.gz’