Index of /checkResults/release/bioc-LATEST/VCFArray/raw-results/nebbiolo1

[ICO]NameLast modifiedSizeDescription

[DIR]Parent Directory  -  
[TXT]buildsrc-out.txt20-Jul-2024 06:38 810  
[   ]buildsrc-summary.dcf20-Jul-2024 06:38 420  
[TXT]checksrc-out.txt20-Jul-2024 06:38 3.3K 
[   ]checksrc-summary.dcf20-Jul-2024 06:38 418  
[TXT]install-out.txt20-Jul-2024 06:38 947  
[   ]install-summary.dcf20-Jul-2024 06:38 261